BEGIN:VCALENDAR
VERSION:2.0
PRODID:-//ChamberMaster//Event Calendar 2.0//EN
METHOD:PUBLISH
X-PUBLISHED-TTL:P3D
REFRESH-INTERVAL:P3D
CALSCALE:GREGORIAN
BEGIN:VEVENT
DTSTART:20240404T160000Z
DTEND:20240404T170000Z
X-MICROSOFT-CDO-ALLDAYEVENT:FALSE
SUMMARY:First Thursdays with the SBA: SDVOSB/VOSB
DESCRIPTION:The federal government aims to award at least 3% of all federal contracting dollars to Service-Disabled Veteran-Owned Small Businesses (SDVOSB) each year. Joining the SDVOSB program makes your business eligible to compete for the program's set-aside contracts. You can still compete for contract awards under other socio-economic programs you qualify for. Key Takeaways: What is a SDVOSB? Who is eligible for the program? What to expect with the recent changes to the program?
X-ALT-DESC;FMTTYPE=text/html:The federal government aims to award at least 3% of all federal contracting dollars to Service-Disabled Veteran-Owned Small Businesses (SDVOSB) each year. Joining the SDVOSB program makes your business eligible to compete for the program&rsquo\;s set-aside contracts. You can still compete for contract awards under other socio-economic programs you qualify for. Key Takeaways: What is a SDVOSB? Who is eligible for the program? What to expect with the recent changes to the program?
LOCATION:Virtual
UID:e.492.13922
SEQUENCE:3
DTSTAMP:20260422T054407Z
URL:https://members.fredericksburgchamber.org/events/details/first-thursdays-with-the-sba-sdvosb-vosb-04-04-2024-13922
END:VEVENT

END:VCALENDAR
