BEGIN:VCALENDAR
VERSION:2.0
PRODID:-//ChamberMaster//Event Calendar 2.0//EN
METHOD:PUBLISH
X-PUBLISHED-TTL:P3D
REFRESH-INTERVAL:P3D
CALSCALE:GREGORIAN
BEGIN:VEVENT
DTSTART:20260702T160000Z
DTEND:20260702T170000Z
X-MICROSOFT-CDO-ALLDAYEVENT:FALSE
SUMMARY:First Thursdays with the SBA: WOSB
DESCRIPTION:First Thursdays with the SBA: WOSB\n\n\n\n\n\nJul\n\n2\n\n2026\n\n\n\n\nThu\, Jul 2 12:00 PM to 1:00 PM\n\nAdd to Google Calendar | Outlook Calendar | Apple Calendar\n\n\n\n\n Online\nFacilitated by University of Mary Washington SBDC\n\n\nTopic: Government Contracting\n\n \n\nTopic: Woman Owned Small Business (WOSB) Grab your lunch and join us the first Thursday of each month to learn more about SBA programs and network with other small business owners. This workshop will explain the process and advantages of utilizing the Women -Owned Small business contracting program for federal contracting. Key Takeaways:   How to self-certify as a woman-owned small business   The eligibility requirements to qualify for the WOSB program   How the WOSB program can help your business compete for federal contract set-asides\n\nSpeaker(s): Junie Djamen\, Business Development Specialist\, Virginia--Richmond District SBA Office\n\nCo-Sponsor(s):\n\nIf you need further assistance or have a question\, please contact us at (540) 654-1383\n\nFee: No Cost\n\nRegister Online
X-ALT-DESC;FMTTYPE=text/html:<h1>First Thursdays with the SBA: WOSB</h1>\n\n<div>\n<div>\n<div>\n<div style="text-align:center">\n<div>Jul</div>\n\n<div>2</div>\n\n<div>2026</div>\n</div>\n</div>\n\n<div>\n<div>Thu\, Jul 2 12:00 PM to 1:00 PM</div>\n\n<div>Add to&nbsp\;<a href="https://clients.virginiasbdc.org/eventcal?type=google&amp\;e=140460024">Google Calendar</a>&nbsp\;|&nbsp\;<a href="https://clients.virginiasbdc.org/eventcal?e=140460024">Outlook Calendar</a>&nbsp\;|&nbsp\;<a href="https://clients.virginiasbdc.org/eventcal?e=140460024">Apple Calendar</a></div>\n</div>\n</div>\n</div>\n\n<div>&nbsp\;Online\n<div>Facilitated by&nbsp\;<a href="https://clients.virginiasbdc.org/center.aspx?center=46140">University of Mary Washington SBDC</a></div>\n</div>\n\n<div>Topic: Government Contracting</div>\n\n<div>&nbsp\;</div>\n\n<p>Topic: Woman Owned Small Business (WOSB) Grab your lunch and join us the first Thursday of each month to learn more about SBA programs and network with other small business owners. This workshop will explain the process and advantages of utilizing the Women -Owned Small business contracting program for federal contracting. Key Takeaways: &bull\; How to self-certify as a woman-owned small business &bull\; The eligibility requirements to qualify for the WOSB program &bull\; How the WOSB program can help your business compete for federal contract set-asides</p>\n\n<p>Speaker(s): Junie Djamen\, Business Development Specialist\, Virginia--Richmond District SBA Office</p>\n\n<p>Co-Sponsor(s):</p>\n\n<p>If you need further assistance or have a question\, please contact us at (540) 654-1383</p>\n\n<p>Fee: No Cost</p>\n\n<div><a class="cdeventreg" href="https://clients.virginiasbdc.org/reg.aspx?mode=event&amp\;event=140460024" rel="nofollow" style="padding: 0.8rem 2rem\; font-size: 1.2rem\; display: inline-block\; margin-bottom: 0.5em\; background-color: rgb(0\, 64\, 117) !important\; color: white !important\;">Register Online</a></div>\n
LOCATION:Register Online
UID:e.492.15364
SEQUENCE:3
DTSTAMP:20260421T175202Z
URL:https://members.fredericksburgchamber.org/events/details/first-thursdays-with-the-sba-wosb-07-02-2026-15364
END:VEVENT

END:VCALENDAR
