BEGIN:VCALENDAR
VERSION:2.0
PRODID:-//ChamberMaster//Event Calendar 2.0//EN
METHOD:PUBLISH
X-PUBLISHED-TTL:P3D
REFRESH-INTERVAL:P3D
CALSCALE:GREGORIAN
BEGIN:VEVENT
DTSTART:20250807T160000Z
DTEND:20250807T170000Z
X-MICROSOFT-CDO-ALLDAYEVENT:FALSE
SUMMARY:First Thursdays with the SBA: WOSB
DESCRIPTION:Topic: WOSB Certification Preparation What Do I Need? Welcome to our online event focused on helping entrepreneurs prepare for their WOSB Certification and EDWOSB. Whether you're just starting or looking to expand your business\, this session will provide valuable insights on the basic requirements needed for certification. Join us as we discuss the key steps and the basic documents necessary to apply for the certification. Don't miss this opportunity to get all the information you need to take your business to the next level! Key Takeaways:   How to self-certify as a WOSB   The eligibility requirements to qualify for the WOSB program   How the WOSB program can help your business compete for federal contract set-asides
X-ALT-DESC;FMTTYPE=text/html:Topic: WOSB Certification Preparation What Do I Need? Welcome to our online event focused on helping entrepreneurs prepare for their WOSB Certification and EDWOSB. Whether you&#39\;re just starting or looking to expand your business\, this session will provide valuable insights on the basic requirements needed for certification. Join us as we discuss the key steps and the basic documents necessary to apply for the certification. Don&#39\;t miss this opportunity to get all the information you need to take your business to the next level! Key Takeaways: &bull\; How to self-certify as a WOSB &bull\; The eligibility requirements to qualify for the WOSB program &bull\; How the WOSB program can help your business compete for federal contract set-asides
LOCATION:Virtual
UID:e.492.14942
SEQUENCE:3
DTSTAMP:20260422T002344Z
URL:https://members.fredericksburgchamber.org/events/details/first-thursdays-with-the-sba-wosb-08-07-2025-14942
END:VEVENT

END:VCALENDAR
