BEGIN:VCALENDAR
VERSION:2.0
PRODID:-//ChamberMaster//Event Calendar 2.0//EN
METHOD:PUBLISH
X-PUBLISHED-TTL:P3D
REFRESH-INTERVAL:P3D
CALSCALE:GREGORIAN
BEGIN:VEVENT
DTSTART:20220801T130000Z
DTEND:20220801T193000Z
X-MICROSOFT-CDO-ALLDAYEVENT:FALSE
SUMMARY:First-Time Homebuyer Workshop
DESCRIPTION:Come learn about the entire homebuying process from start to finish\, as well as the responsibilities of homeownership. Plus\, receive a certificate toward closing. Registration is required! Sign up at: VirginiaHousing.come/FindAclass Enter: Sharon Glover
X-ALT-DESC;FMTTYPE=text/html:Come learn about the entire homebuying process from start to finish\, as well as the responsibilities of homeownership. Plus\, receive a certificate toward closing. Registration is required! Sign up at: VirginiaHousing.come/FindAclass Enter: Sharon Glover
LOCATION:1320 Central Park Blvd. Fredericksburg\, Va. 22401
UID:e.492.13040
SEQUENCE:3
DTSTAMP:20260422T224831Z
URL:https://members.fredericksburgchamber.org/events/details/first-time-homebuyer-workshop-13040
END:VEVENT

END:VCALENDAR
