BEGIN:VCALENDAR
VERSION:2.0
PRODID:-//ChamberMaster//Event Calendar 2.0//EN
METHOD:PUBLISH
X-PUBLISHED-TTL:P3D
REFRESH-INTERVAL:P3D
CALSCALE:GREGORIAN
BEGIN:VEVENT
DTSTART:20230523T170000Z
DTEND:20230523T210000Z
X-MICROSOFT-CDO-ALLDAYEVENT:FALSE
SUMMARY:Fore The Animals Golf Tournament
DESCRIPTION:Join us on May 23 at 1:00 PM and spend the afternoon playing golf with friends and colleagues\, all FORE the Animals! This annual golf tournament is a fundraiser benefiting the Fredericksburg SPCA.
X-ALT-DESC;FMTTYPE=text/html:Join us on May 23 at 1:00 PM and spend the afternoon playing golf with friends and colleagues\, all FORE the Animals! This annual golf tournament is a fundraiser benefiting the Fredericksburg SPCA.
LOCATION:Fredericksburg Country Club 11031 Tidewater Trail Fredericksburg\, VA 22408
UID:e.492.13464
SEQUENCE:3
DTSTAMP:20260422T070529Z
URL:https://members.fredericksburgchamber.org/events/details/fore-the-animals-golf-tournament-13464
END:VEVENT

END:VCALENDAR
