BEGIN:VCALENDAR
VERSION:2.0
PRODID:-//ChamberMaster//Event Calendar 2.0//EN
METHOD:PUBLISH
X-PUBLISHED-TTL:P3D
REFRESH-INTERVAL:P3D
CALSCALE:GREGORIAN
BEGIN:VEVENT
DTSTART:20250726T040000Z
DTEND:20250726T210000Z
X-MICROSOFT-CDO-ALLDAYEVENT:FALSE
SUMMARY:Fraser Carnival
DESCRIPTION:Fraser Carnival \n\nFriday\, July 26th | 12 PM   5 PM\n\nJoin us at Fraser Wood Elements for a fun-filled summer afternoon at our Fraser Carnival!\n\nBring the whole family for:\n\nDelicious eats from Bitty Bites Food Truck\n\nA sweet cotton candy stand\n\nFresh popcorn\n\nClassic carnival games & exciting prizes\n\nMusic to keep the vibes going\n\nWhether you're playing to win or just here for the snacks\, there's something for everyone. Come celebrate summer with us\, see you there!
X-ALT-DESC;FMTTYPE=text/html:<p><strong>Fraser Carnival</strong>&nbsp\;<br />\n<strong>Friday\, July 26th | 12 PM &ndash\; 5 PM</strong><br />\nJoin us at Fraser Wood Elements for a fun-filled summer afternoon at our <em>Fraser Carnival</em>!</p>\n\n<p>Bring the whole family for:<br />\nDelicious eats from <strong>Bitty Bites Food Truck</strong><br />\nA sweet <strong>cotton candy stand</strong><br />\nFresh <strong>popcorn</strong><br />\nClassic <strong>carnival games</strong> &amp\; exciting <strong>prizes</strong><br />\n<strong>M</strong><strong>usic</strong> to keep the vibes going</p>\n\n<p>Whether you&#39\;re playing to win or just here for the snacks\, there&#39\;s something for everyone. Come celebrate summer with us\, see you there!</p>\n
LOCATION:1023 Caroline St\, Fredericksburg\, VA 22401
UID:e.492.14936
SEQUENCE:3
DTSTAMP:20260422T002053Z
URL:https://members.fredericksburgchamber.org/events/details/fraser-carnival-14936
END:VEVENT

END:VCALENDAR
