BEGIN:VCALENDAR
VERSION:2.0
PRODID:-//ChamberMaster//Event Calendar 2.0//EN
METHOD:PUBLISH
X-PUBLISHED-TTL:P3D
REFRESH-INTERVAL:P3D
CALSCALE:GREGORIAN
BEGIN:VEVENT
DTSTART:20230423T130000Z
DTEND:20230423T210000Z
X-MICROSOFT-CDO-ALLDAYEVENT:FALSE
SUMMARY:Fred SPCA Annual Kickball Tournament
DESCRIPTION:Fred SPCA is teaming up with the Rappahannock Golden Boars Rugby team once again for our third annual Kickball Tournament! Sign up to be a sponsor or register to play with friends/family/colleagues and come kick some grass for the animals!\n\nJoin us for a fun day at the park and enjoy a beer & wine garden\, food trucks\, and local vendors onsite. Thank you to the Community Bank of the Chesapeake for supporting this event!\n\nhttps://fredspca.salsalabs.org/2023AnnualKickballTournament
X-ALT-DESC;FMTTYPE=text/html:<p><span style="background-color:transparent\; color:rgb(0\, 0\, 0)\; font-family:arial\; font-size:10.5pt">Fred SPCA is teaming up with the Rappahannock Golden Boars Rugby team once again for our third annual Kickball Tournament! Sign up to be a sponsor or register to play with friends/family/colleagues and come kick some grass for the animals!</span></p>\n\n<p><span style="background-color:transparent\; color:rgb(0\, 0\, 0)\; font-family:arial\; font-size:10.5pt">Join us for a fun day at the park and enjoy a beer &amp\; wine garden\, food trucks\, and local vendors onsite. </span><span style="color:rgb(0\, 0\, 0)\; font-family:arial\; font-size:10.5pt">Thank you to the Community Bank of the Chesapeake for supporting this event!</span></p>\n\n<p><a href="https://fredspca.salsalabs.org/2023AnnualKickballTournament" style="text-decoration-line: none\;"><span style="color:rgb(17\, 85\, 204)\; font-family:arial\; font-size:10.5pt">https://fredspca.salsalabs.org/2023AnnualKickballTournament</span></a></p>\n
LOCATION:Duff McDuff Green Memorial Park 75 James Ashby PkwyFalmouth\, VA 22405
UID:e.492.13435
SEQUENCE:3
DTSTAMP:20260422T091827Z
URL:https://members.fredericksburgchamber.org/events/details/fred-spca-annual-kickball-tournament-13435
END:VEVENT

END:VCALENDAR
