BEGIN:VCALENDAR
VERSION:2.0
PRODID:-//ChamberMaster//Event Calendar 2.0//EN
METHOD:PUBLISH
X-PUBLISHED-TTL:P3D
REFRESH-INTERVAL:P3D
CALSCALE:GREGORIAN
BEGIN:VEVENT
DTSTART:20230610T140000Z
DTEND:20230610T210000Z
X-MICROSOFT-CDO-ALLDAYEVENT:FALSE
SUMMARY:Fredericksburg Area Black Arts Festival- Revisited
DESCRIPTION:The Fredericksburg Area Museum (FAM) is excited to announce the Fredericksburg Area Black Arts Festival- Revisited on June 10\, 2023 from 10:00 a.m. to 5:00 p.m. Presented in conjunction with Seen: Viewing the Work of African American Artists of Fredericksburg (currently on display at the Fredericksburg Area Museum)\, this festival gives recognition to the rich history of the Harambee 360 Degrees Interpretive Theater\, which was established in Fredericksburg in the 1970's\, and became the podium for Black artists to find support and exposure.
X-ALT-DESC;FMTTYPE=text/html:The Fredericksburg Area Museum (FAM) is excited to announce the Fredericksburg Area Black Arts Festival- Revisited on June 10\, 2023 from 10:00 a.m. to 5:00 p.m. Presented in conjunction with Seen: Viewing the Work of African American Artists of Fredericksburg (currently on display at the Fredericksburg Area Museum)\, this festival gives recognition to the rich history of the Harambee 360 Degrees Interpretive Theater\, which was established in Fredericksburg in the 1970&rsquo\;s\, and became the podium for Black artists to find support and exposure.
LOCATION:Market Square\, Fredericksburg Area Museum 907 Princess Anne St Fredericksburg\, VA 22401
UID:e.492.13527
SEQUENCE:3
DTSTAMP:20260422T071506Z
URL:https://members.fredericksburgchamber.org/events/details/fredericksburg-area-black-arts-festival-revisited-13527
END:VEVENT

END:VCALENDAR
