BEGIN:VCALENDAR
VERSION:2.0
PRODID:-//ChamberMaster//Event Calendar 2.0//EN
METHOD:PUBLISH
X-PUBLISHED-TTL:P3D
REFRESH-INTERVAL:P3D
CALSCALE:GREGORIAN
BEGIN:VEVENT
DTSTART:20240202T220000Z
DTEND:20240203T010000Z
X-MICROSOFT-CDO-ALLDAYEVENT:FALSE
SUMMARY:Fredericksburg Area Museum Announces Exhibit Extended: Closing Reception Scheduled
DESCRIPTION:The Fredericksburg Area Museum (FAM) will be extending the popular exhibit\, SEEN: Viewing the Work of African American Artists of Fredericksburg through February 2nd\, 2024. The museum has welcomed over seven thousand visitors since the exhibit opened in March of 2023. A closing reception for the exhibit will be held for First Friday on February 2nd from 5:00-8:00PM with many of the exhibit's artists in attendance. The reception and museum are free to attend. Questions can be directed to the exhibit's curator\, Sarah Ernst at sernst@famva.org or 540-371-3037 x 137.
X-ALT-DESC;FMTTYPE=text/html:The Fredericksburg Area Museum (FAM) will be extending the popular exhibit\, SEEN: Viewing the Work of African American Artists of Fredericksburg through February 2nd\, 2024. The museum has welcomed over seven thousand visitors since the exhibit opened in March of 2023. A closing reception for the exhibit will be held for First Friday on February 2nd from 5:00-8:00PM with many of the exhibit&rsquo\;s artists in attendance. The reception and museum are free to attend. Questions can be directed to the exhibit&rsquo\;s curator\, Sarah Ernst at sernst@famva.org or 540-371-3037 x 137.
LOCATION:Fredericksburg Area Museum 907 Princess Anne St Fredericksburg\, VA 22401
UID:e.492.13830
SEQUENCE:3
DTSTAMP:20260422T024517Z
URL:https://members.fredericksburgchamber.org/events/details/fredericksburg-area-museum-announces-exhibit-extended-closing-reception-scheduled-13830
END:VEVENT

END:VCALENDAR
