BEGIN:VCALENDAR
VERSION:2.0
PRODID:-//ChamberMaster//Event Calendar 2.0//EN
METHOD:PUBLISH
X-PUBLISHED-TTL:P3D
REFRESH-INTERVAL:P3D
CALSCALE:GREGORIAN
BEGIN:VEVENT
DTSTART:20220820T160000Z
DTEND:20220821T010000Z
X-MICROSOFT-CDO-ALLDAYEVENT:FALSE
SUMMARY:Fredericksburg Day Live
DESCRIPTION:Fredericksburg Day Live "Cranking for The Vets" Endless Dreams and Wings World Films Presents the first annual benefit concert on the lawn to support Haven for Heros "End Veteran Homeless Program" Come out for a day of fun\, food\, live Go-Go music and more from the area's most popular local bands while supporting this program. Featuring: Mature Clientele\, Allstar Blend\, Collective Measures (CMB)\, Major League Band\, Red Carpet Affair\, Perfection\, Bam640 and DJ Choice This is a Non-alcoholic event\, bring your lawn chairs\, umbrellas and tents (NO COOLERS ALLOWED) for more info and vendor opportunities call (703) 589-7537 (202) 415-0644 (540) 446-6686. Proceeds to support Haven for Heros "End Veteran Homelessness Program" Kids under 8 Free and Veterans with valid ID 50% General admission Early bird General admission $40.00
X-ALT-DESC;FMTTYPE=text/html:Fredericksburg Day Live &quot\;Cranking for The Vets&quot\; Endless Dreams and Wings World Films Presents the first annual benefit concert on the lawn to support Haven for Heros &quot\;End Veteran Homeless Program&quot\; Come out for a day of fun\, food\, live Go-Go music and more from the area&#39\;s most popular local bands while supporting this program. Featuring: Mature Clientele\, Allstar Blend\, Collective Measures (CMB)\, Major League Band\, Red Carpet Affair\, Perfection\, Bam640 and DJ Choice This is a Non-alcoholic event\, bring your lawn chairs\, umbrellas and tents (NO COOLERS ALLOWED) for more info and vendor opportunities call (703) 589-7537 (202) 415-0644 (540) 446-6686. Proceeds to support Haven for Heros &quot\;End Veteran Homelessness Program&quot\; Kids under 8 Free and Veterans with valid ID 50% General admission Early bird General admission $40.00
LOCATION:5710 Smith Station Rd-Patriot Park Amphitheater\, Fredericksburg\, VA 22407
UID:e.492.13054
SEQUENCE:3
DTSTAMP:20260422T225349Z
URL:https://members.fredericksburgchamber.org/events/details/fredericksburg-day-live-13054
END:VEVENT

END:VCALENDAR
