BEGIN:VCALENDAR
VERSION:2.0
PRODID:-//ChamberMaster//Event Calendar 2.0//EN
METHOD:PUBLISH
X-PUBLISHED-TTL:P3D
REFRESH-INTERVAL:P3D
CALSCALE:GREGORIAN
BEGIN:VEVENT
DTSTART:20241107T230000Z
DTEND:20241108T010000Z
X-MICROSOFT-CDO-ALLDAYEVENT:FALSE
SUMMARY:Fredericksburg Food Bank Dinner
DESCRIPTION:Cork and Table is hosting its third annual dinner in support of the Fredericksburg Regional Food Bank. We will be serving drinks and appetizers to begin followed by a three course dinner with wine pairings. Additionally\, there will be a silent auction of donated wines by renowned wineries. All sales go directly to the support the work of our local Food Bank.
X-ALT-DESC;FMTTYPE=text/html:Cork and Table is hosting its third annual dinner in support of the Fredericksburg Regional Food Bank. We will be serving drinks and appetizers to begin followed by a three course dinner with wine pairings. Additionally\, there will be a silent auction of donated wines by renowned wineries. All sales go directly to the support the work of our local Food Bank.
LOCATION:909 Caroline St.
UID:e.492.14276
SEQUENCE:3
DTSTAMP:20260424T180428Z
URL:https://members.fredericksburgchamber.org/events/details/fredericksburg-food-bank-dinner-14276
END:VEVENT

END:VCALENDAR
