BEGIN:VCALENDAR
VERSION:2.0
PRODID:-//ChamberMaster//Event Calendar 2.0//EN
METHOD:PUBLISH
X-PUBLISHED-TTL:P3D
REFRESH-INTERVAL:P3D
CALSCALE:GREGORIAN
BEGIN:VEVENT
DTSTART:20240201T230000Z
DTEND:20240202T010000Z
X-MICROSOFT-CDO-ALLDAYEVENT:FALSE
SUMMARY:Fredericksburg Foodways: Past and Present
DESCRIPTION:Community Conversation with Dr. Gaila Sims and Chef Joy Crump\, moderated by Tramia Jackson\, Director of Learning at Mount Vernon. The history of food provides an intimate glimpse into the lives\, labor\, and relationships of Fredericksburg residents\, past and present. Food serves as an accessible\, engaging entrance into the history of Fredericksburg\, a city that has witnessed and actively participated in hundreds of years of regional\, state\, and national history. This Community Conversation will launch the Fredericksburg Food History Project\, a multiyear initiative capturing the diversity of Fredericksburg's community through food\, an essential element in the daily lives of people in this area since their earliest arrival. 6 p.m. at 718 Venue Free and open to the public\, tickets on EventBrite
X-ALT-DESC;FMTTYPE=text/html:Community Conversation with Dr. Gaila Sims and Chef Joy Crump\, moderated by Tramia Jackson\, Director of Learning at Mount Vernon. The history of food provides an intimate glimpse into the lives\, labor\, and relationships of Fredericksburg residents\, past and present. Food serves as an accessible\, engaging entrance into the history of Fredericksburg\, a city that has witnessed and actively participated in hundreds of years of regional\, state\, and national history. This Community Conversation will launch the Fredericksburg Food History Project\, a multiyear initiative capturing the diversity of Fredericksburg&#39\;s community through food\, an essential element in the daily lives of people in this area since their earliest arrival. 6 p.m. at 718 Venue Free and open to the public\, tickets on EventBrite
LOCATION:718 Venue 718 Caroline St Fredericksburg\, VA 22401
UID:e.492.13838
SEQUENCE:3
DTSTAMP:20260422T024235Z
URL:https://members.fredericksburgchamber.org/events/details/fredericksburg-foodways-past-and-present-13838
END:VEVENT

END:VCALENDAR
