BEGIN:VCALENDAR
VERSION:2.0
PRODID:-//ChamberMaster//Event Calendar 2.0//EN
METHOD:PUBLISH
X-PUBLISHED-TTL:P3D
REFRESH-INTERVAL:P3D
CALSCALE:GREGORIAN
BEGIN:VEVENT
DTSTART;VALUE=DATE:20210219
DTEND;VALUE=DATE:20210301
TRANSP:TRANSPARENT
X-MICROSOFT-CDO-ALLDAYEVENT:TRUE
SUMMARY:Fredericksburg Regional Black Restaurant Week
DESCRIPTION:Fredericksburg Regional Black Restaurant Week (FXBGbrw) is brought to you by the Virginia Black Business Directory. This is a local initiative based on the principles of: great food\, culture and community in the Fredericksburg\, Stafford and Spotsylvania areas. The black restaurant experience is not a new concept\, however\, the visibility of black-owned restaurants in these communities continue to be under-represented. \n\n\n\nThe mission of FXBGbrw is to:?\n\n	Increase the visibility of local black-owned restaurants\; \n	Assist with the financial recovery of participating restaurants due to the economic disruption attributed to COVID-19\; and \n	Reinvest into our local community by connecting consumers with black-owned restaurants and entrepreneurs (Caterers\, Bakers\, Personal Chefs\, etc.) to bridge the disparity in wealth.
X-ALT-DESC;FMTTYPE=text/html:Fredericksburg Regional Black Restaurant Week (FXBGbrw) is brought to you by the Virginia Black Business Directory. This is a local initiative based&nbsp\;on the principles&nbsp\;of:&nbsp\;great food\, culture and community in the Fredericksburg\, Stafford and Spotsylvania areas. The black restaurant experience is not a new concept\, however\, the visibility of&nbsp\;black-owned restaurants in these communities&nbsp\;continue&nbsp\;to be under-represented.&nbsp\;<br />\n<br />\n<span style="font-family:montserrat\,sans-serif"><span style="color:rgb(0\, 0\, 0)"><span style="font-size:16px">The mission of FXBGbrw is to:</span></span></span><span style="color:rgb(0\, 0\, 0)\; font-family:montserrat\,sans-serif\; font-size:16px">?</span>\n<ul>\n	<li><span style="font-size:16px">Increase the visibility of&nbsp\;local black-owned restaurants\;&nbsp\;</span></li>\n	<li><span style="font-size:16px">Assist with the financial recovery of participating&nbsp\;restaurants due to the economic disruption attributed to COVID-19\; and&nbsp\;</span></li>\n	<li><span style="font-size:16px">Reinvest into our local community by connecting consumers with black-owned restaurants and entrepreneurs (Caterers\, Bakers\, Personal Chefs\, etc.) to bridge the disparity in wealth.&nbsp\;&nbsp\;</span></li>\n</ul>\n
LOCATION:Fredericksburg\, Stafford and Spotsylvania Counties
UID:e.492.11477
SEQUENCE:3
DTSTAMP:20260422T120921Z
URL:https://members.fredericksburgchamber.org/events/details/fredericksburg-regional-black-restaurant-week-11477
END:VEVENT

END:VCALENDAR
