BEGIN:VCALENDAR
VERSION:2.0
PRODID:-//ChamberMaster//Event Calendar 2.0//EN
METHOD:PUBLISH
X-PUBLISHED-TTL:P3D
REFRESH-INTERVAL:P3D
CALSCALE:GREGORIAN
BEGIN:VEVENT
DTSTART:20230325T140000Z
DTEND:20230325T160000Z
X-MICROSOFT-CDO-ALLDAYEVENT:FALSE
SUMMARY:Freedom 500 - Race Against Addiction
DESCRIPTION:START YOUR ENGINES!\n\nWe are excited to announce our \n\nThird Annual- Freedom 500 GoKart Race Against Addiction!\n\nWe are inviting your business/family to sponsor and race a GoKart (karts provided) in this family-friendly event. \n\nYou will drive or choose someone to drive a provided kart in the races\, as well as enjoy many other benefits!\n\nSponsor a GoKart today!!\n\nAll proceeds help our participants find freedom from addiction.
X-ALT-DESC;FMTTYPE=text/html:<div>\n<p style="text-align:center"><strong><span style="color:rgb(102\, 0\, 153) !important"><span style="font-family:arial\,sans-serif\; font-size:15pt">START YOUR ENGINES!</span></span></strong></p>\n\n<p style="text-align:center"><strong><span style="color:rgb(85\, 85\, 85)\; font-family:arial\,sans-serif\; font-size:11.5pt">We are excited to announce our&nbsp\;</span></strong></p>\n\n<p style="text-align:center"><span style="color:rgb(75\, 0\, 130) !important"><strong><span style="font-family:arial\,sans-serif\; font-size:11.5pt">Third Annual-&nbsp\;Freedom&nbsp\;500&nbsp\;</span></strong></span><strong style="color:rgb(75\, 0\, 130)"><span style="font-family:arial\,sans-serif\; font-size:11.5pt">GoKart Race Against Addiction!</span></strong></p>\n\n<p style="text-align:center"><span style="color:rgb(85\, 85\, 85)\; font-family:arial\,sans-serif\; font-size:11.5pt">We are inviting your business/family to sponsor and race a GoKart (karts provided) in this family-friendly event.</span><span style="color:rgb(85\, 85\, 85)\; font-family:arial\,sans-serif\; font-size:11.5pt">&nbsp\;</span></p>\n\n<p style="text-align:center"><span style="color:rgb(85\, 85\, 85)\; font-family:arial\,sans-serif\; font-size:11.5pt">You will drive or choose someone to drive a provided kart in the races\, as well as enjoy many other benefits!</span></p>\n\n<p style="text-align:center"><strong><span style="font-family:arial\,sans-serif\; font-size:11.5pt"><a href="https://app.donorview.com/Event/EventInfo?prm=eyWFDHf4lZQf3EMtl1qyTtXYE1yNWlJTyy43GUcgBwBH1kysR1_5Wg_WUThe9vFQljfjS9jtndaWypJNf5K8a8qnbNuHGiU9OyhEKiMKMMuBaEecFKQDxmHfj-uV_SgiXP4tQFsI5vv0IGpVv6jTNHnU6WdM2OsQQzWJb_QRQ0WREcnMRb3KNZqmfFXnEIad1UfBRJ_GXrBYXnSoafiiK9IYhfC35oAFJUfLeDAFXEExpMzGN1s-j-VB9IKWJDgc0" target="_blank"><span style="color:#4B0082">Sponsor a GoKart today!!</span></a></span></strong></p>\n\n<p style="text-align:center"><span style="color:rgb(85\, 85\, 85)\; font-family:arial\,sans-serif\; font-size:11.5pt">All proceeds help our participants find&nbsp\;<span style="color:rgb(7\, 7\, 6)">freedom</span>&nbsp\;from addiction.</span></p>\n</div>\n
LOCATION:Funland Central Park Blvd. Fredericksburg\, VA 22401
UID:e.492.13417
SEQUENCE:3
DTSTAMP:20260422T102724Z
URL:https://members.fredericksburgchamber.org/events/details/freedom-500-race-against-addiction-13417
END:VEVENT

END:VCALENDAR
