BEGIN:VCALENDAR
VERSION:2.0
PRODID:-//ChamberMaster//Event Calendar 2.0//EN
METHOD:PUBLISH
X-PUBLISHED-TTL:P3D
REFRESH-INTERVAL:P3D
CALSCALE:GREGORIAN
BEGIN:VEVENT
DTSTART:20241214T140000Z
DTEND:20241215T043000Z
X-MICROSOFT-CDO-ALLDAYEVENT:FALSE
SUMMARY:Frosty 5K and Reindeer Run
DESCRIPTION:Run or walk with us on December 14th on a scenic 5K course along the rolling hills of Mine Road in Stafford\, VA. Kids 12 and under can join the fun in the 1 Mile Reindeer Run! Costumes always encouraged - we've seen Santas\, Olafs\, reindeer\, and snowmen! Bring on the holiday cheer! All finishers will receive a long-sleeve race t-shirt and custom finisher's medal! #willrunforbling Race Information This race has moved back to its original race distance - 5K!!! Why? Well\, to be honest\, Frosty 5K sounds a LOT better than Frosty 3 Miler and we have a great USATF Certified 5K course available!! This race is back for its 8th year in Stafford and it's definitely become a holiday tradition for many! The Frosty 5K is the 4th and final race in the 2024 Stafford Race Series and the 12th and final race in the Coldwell Banker Elite Grand Prix Series.
X-ALT-DESC;FMTTYPE=text/html:Run or walk with us on December 14th on a scenic 5K course along the rolling hills of Mine Road in Stafford\, VA. Kids 12 and under can join the fun in the 1 Mile Reindeer Run! Costumes always encouraged - we&#39\;ve seen Santas\, Olafs\, reindeer\, and snowmen! Bring on the holiday cheer! All finishers will receive a long-sleeve race t-shirt and custom finisher&#39\;s medal! #willrunforbling Race Information This race has moved back to its original race distance - 5K!!! Why? Well\, to be honest\, Frosty 5K sounds a LOT better than Frosty 3 Miler and we have a great USATF Certified 5K course available!! This race is back for its 8th year in Stafford and it&#39\;s definitely become a holiday tradition for many! The Frosty 5K is the 4th and final race in the 2024 Stafford Race Series and the 12th and final race in the Coldwell Banker Elite Grand Prix Series.
LOCATION:Embrey Mill Park 1600 Mine Road Stafford\, VA 22554
UID:e.492.13881
SEQUENCE:3
DTSTAMP:20260421T030656Z
URL:https://members.fredericksburgchamber.org/events/details/frosty-5k-and-reindeer-run-13881
END:VEVENT

END:VCALENDAR
