BEGIN:VCALENDAR
VERSION:2.0
PRODID:-//ChamberMaster//Event Calendar 2.0//EN
METHOD:PUBLISH
X-PUBLISHED-TTL:P3D
REFRESH-INTERVAL:P3D
CALSCALE:GREGORIAN
BEGIN:VEVENT
DTSTART;VALUE=DATE:20260404
DTEND;VALUE=DATE:20260406
TRANSP:TRANSPARENT
X-MICROSOFT-CDO-ALLDAYEVENT:TRUE
SUMMARY:Fun Land Easter Egg-Stravaganza
DESCRIPTION:Join us for an egg-citing event filled with food\, fun\, and a special Easter Egg Hunt Bingo!\n\nFor just $25 per person plus tax\, the package includes:\n\n	2 Hours Unlimited Rides & Attractions\n	$10 Arcade Card\n	Choice of 7" Personal Pizza and a Drink OR Chicken Tenders with Fries and a Drink\n	Access to Easter Egg Hunt Bingo\n\nGuests will search for Easter Egg Graphics throughout the park and mark them off on Bingo cards. Once completed\, guests turn in their Bingo card to receive a $10 game play card and be entered into a grand prize Easter Basket raffle.
X-ALT-DESC;FMTTYPE=text/html:Join us for an egg-citing event filled with food\, fun\, and a special Easter Egg Hunt Bingo!<br />\nFor just $25 per person plus tax\, the package includes:\n<ul>\n	<li>2 Hours Unlimited Rides &amp\; Attractions</li>\n	<li>$10 Arcade Card</li>\n	<li>Choice of 7&quot\; Personal Pizza and a Drink OR Chicken Tenders with Fries and a Drink</li>\n	<li>Access to Easter Egg Hunt Bingo</li>\n</ul>\nGuests will search for Easter Egg Graphics throughout the park and mark them off on Bingo cards. Once completed\, guests turn in their Bingo card to receive a $10 game play card and be entered into a grand prize Easter Basket raffle.
LOCATION:Fun Land Fredericksburg 1351 Central Park Blvd Fredericksburg\, VA 22401
UID:e.492.15216
SEQUENCE:3
DTSTAMP:20260421T131046Z
URL:https://members.fredericksburgchamber.org/events/details/fun-land-easter-egg-stravaganza-04-04-2026-15216
END:VEVENT

END:VCALENDAR
