BEGIN:VCALENDAR
VERSION:2.0
PRODID:-//ChamberMaster//Event Calendar 2.0//EN
METHOD:PUBLISH
X-PUBLISHED-TTL:P3D
REFRESH-INTERVAL:P3D
CALSCALE:GREGORIAN
BEGIN:VEVENT
DTSTART:20230425T150000Z
DTEND:20230425T170000Z
X-MICROSOFT-CDO-ALLDAYEVENT:FALSE
SUMMARY:Fundability for Small Businesses
DESCRIPTION:This seminar is being offered in a hybrid format. You can choose to attend virtually via Zoom or attend in person at 1125 Emancipation Hwy\, Suite 400\, Fredericksburg\, VA 22401. This two hour seminar will help attendees understand how to be more marketable to small business lenders. The seminar will detail the documents needed and the expectations of some lenders. Key takeaways: 1. Key factors that affect fundability 2. Tips to improve your small businesses capability to get funding 3. Gain greater insight into small business funding sources 4. Real talk - awareness of next steps\, goals\, and a possible strategy to gain funding
X-ALT-DESC;FMTTYPE=text/html:This seminar is being offered in a hybrid format. You can choose to attend virtually via Zoom or attend in person at 1125 Emancipation Hwy\, Suite 400\, Fredericksburg\, VA 22401. This two hour seminar will help attendees understand how to be more marketable to small business lenders. The seminar will detail the documents needed and the expectations of some lenders. Key takeaways: 1. Key factors that affect fundability 2. Tips to improve your small businesses capability to get funding 3. Gain greater insight into small business funding sources 4. Real talk - awareness of next steps\, goals\, and a possible strategy to gain funding
LOCATION:Hybrid: either attend in person or online via Zoom
UID:e.492.13447
SEQUENCE:3
DTSTAMP:20260422T084452Z
URL:https://members.fredericksburgchamber.org/events/details/fundability-for-small-businesses-13447
END:VEVENT

END:VCALENDAR
