BEGIN:VCALENDAR
VERSION:2.0
PRODID:-//ChamberMaster//Event Calendar 2.0//EN
METHOD:PUBLISH
X-PUBLISHED-TTL:P3D
REFRESH-INTERVAL:P3D
CALSCALE:GREGORIAN
BEGIN:VEVENT
DTSTART;VALUE=DATE:20241116
DTEND;VALUE=DATE:20241118
TRANSP:TRANSPARENT
X-MICROSOFT-CDO-ALLDAYEVENT:TRUE
SUMMARY:Funland of Fredericksburg / Gifts from Angels - Christmas Toy Drive Kickoff!
DESCRIPTION:Please come support and participate in our Christmas Toy Drive! We will have vendors\, and the park will be open! Donate 2 toys and get a $10 game card! \n\n\n\nContact dglover@fivestarparks.com for more information!
X-ALT-DESC;FMTTYPE=text/html:Please come support and participate in our Christmas Toy Drive! We will have vendors\, and the park will be open! Donate 2 toys and get a $10 game card!&nbsp\;<br />\n<br />\nContact dglover@fivestarparks.com for more information!&nbsp\;
LOCATION:Funland of Fredericksburg 1351 Central Park Blvd Fredericksburg\, Virginia
UID:e.492.14278
SEQUENCE:3
DTSTAMP:20260424T180857Z
URL:https://members.fredericksburgchamber.org/events/details/funland-of-fredericksburg-gifts-from-angels-christmas-toy-drive-kickoff-14278
END:VEVENT

END:VCALENDAR
