BEGIN:VCALENDAR
VERSION:2.0
PRODID:-//ChamberMaster//Event Calendar 2.0//EN
METHOD:PUBLISH
X-PUBLISHED-TTL:P3D
REFRESH-INTERVAL:P3D
CALSCALE:GREGORIAN
BEGIN:VEVENT
DTSTART:20220820T213000Z
DTEND:20220821T020000Z
X-MICROSOFT-CDO-ALLDAYEVENT:FALSE
SUMMARY:Fur Ball 007
DESCRIPTION:The Fur Ball is the Fredericksburg region's biggest night of philanthropy for the animals! This is the 7th year our community will come together to save lives\, and it's going to be MEMORABLE! You're invited to join us for dinner\, dancing\, live music\, and casino games at the Fredericksburg Expo and Conference Center. It doesn't matter if you prefer your martinis shaken or stirred\, you can have 'em both ways at Fur Ball 007\, so register today and plan to go ALL IN for the animals on Saturday\, August 20\, 2022!\n\n*Black tie optional\n\nExtra special thanks to Fur Ball 007 Event Chair Jamie Gibbins!
X-ALT-DESC;FMTTYPE=text/html:<p>The Fur Ball is the Fredericksburg region&#39\;s biggest night of philanthropy for the animals! This is the 7th year our community will come together to save lives\, and it&#39\;s going to be&nbsp\;<strong>MEMORABLE</strong>! You&#39\;re invited to join us for dinner\, dancing\, live music\, and casino games at the Fredericksburg Expo and Conference Center. It doesn&#39\;t matter if you prefer your martinis shaken or stirred\, you can have &#39\;em both ways at Fur Ball 007\, so register today and plan to go&nbsp\;<strong>ALL IN</strong>&nbsp\;for the animals on&nbsp\;<strong>Saturday\, August 20\, 2022</strong>!</p>\n\n<p><em>*Black tie optional</em></p>\n\n<p><strong>Extra special thanks to Fur Ball 007 Event Chair Jamie Gibbins!</strong></p>\n
LOCATION:Fredericksburg Expo and Conference Center 2371 Carl D. Silver Pkwy\, Fredericksburg\, VA 22401
UID:e.492.12861
SEQUENCE:3
DTSTAMP:20260422T225215Z
URL:https://members.fredericksburgchamber.org/events/details/fur-ball-007-12861
END:VEVENT

END:VCALENDAR
