BEGIN:VCALENDAR
VERSION:2.0
PRODID:-//ChamberMaster//Event Calendar 2.0//EN
METHOD:PUBLISH
X-PUBLISHED-TTL:P3D
REFRESH-INTERVAL:P3D
CALSCALE:GREGORIAN
BEGIN:VEVENT
DTSTART:20240319T223000Z
DTEND:20240319T233000Z
X-MICROSOFT-CDO-ALLDAYEVENT:FALSE
SUMMARY:Future Educators Academy
DESCRIPTION:Future Educators Academy (FEA) is a college partnership lab school that prepares future elementary and special education teachers through dual enrollment using accelerated\, hands-on learning.\n\nFEA includes specialized transfer agreements with James Madison University and the University of Mary Washington\, so students can graduate with a bachelor's degree and earn their teacher licensure two years after high school graduation.\n\nClasses are taken at the Daniel Technology Center in Culpeper County.\n\nParticipating High Schools:\n\n\n	Culpeper County High School\n	Eastern View High School\n	Orange County High School\n	Madison County High School\n	Rappahannock High School\n\n\nTo be considered\, applicants must meet the following minimum requirements:\n\n\n	Be a rising junior at a participating high school\n	Completed Algebra II or higher by the end of their sophomore year\n	Completed three verified credits by the end of sophomore year\n	Have a minimum unweighted GPA of 3.0 or higher\n	In good disciplinary standing with the high school\n\n\nGermanna will request transcripts from your high school to confirm that applicants meet\, or are on track to meet\, all requirements as part of the application process.\n\nMeet with your high school counselor to discuss your eligibility.
X-ALT-DESC;FMTTYPE=text/html:<p><strong>Future Educators Academy (FEA)</strong>&nbsp\;is a college partnership lab school that prepares future elementary and special education teachers through dual enrollment using accelerated\, hands-on learning.</p>\n\n<p>FEA includes specialized transfer agreements with James Madison University and the University of Mary Washington\, so students can graduate with a bachelor&#39\;s degree and earn their teacher licensure two years after high school graduation.</p>\n\n<p>Classes are taken at the&nbsp\;Daniel Technology Center&nbsp\;in Culpeper County.</p>\n\n<p><strong>Participating High Schools:</strong></p>\n\n<ul>\n	<li>Culpeper County High School</li>\n	<li>Eastern View High School</li>\n	<li>Orange County High School</li>\n	<li>Madison County High School</li>\n	<li>Rappahannock High School</li>\n</ul>\n\n<p><strong>To be considered\, applicants must meet the following minimum requirements:</strong></p>\n\n<ul>\n	<li>Be a rising junior at a participating high school</li>\n	<li>Completed Algebra II or higher by the end of their sophomore year</li>\n	<li>Completed three verified credits by the end of sophomore year</li>\n	<li>Have a minimum unweighted GPA of 3.0 or higher</li>\n	<li>In good disciplinary standing with the high school</li>\n</ul>\n\n<p>Germanna will request transcripts from your high school to confirm that applicants meet\, or are on track to meet\, all requirements as part of the application process.</p>\n\n<p><strong>Meet with your high school counselor to discuss your eligibility.</strong></p>\n
LOCATION:Daniel Tech Center 18121 Technology Drive\, Culpeper\, VA 22701
UID:e.492.13882
SEQUENCE:3
DTSTAMP:20260422T051958Z
URL:https://members.fredericksburgchamber.org/events/details/future-educators-academy-13882
END:VEVENT

END:VCALENDAR
