BEGIN:VCALENDAR
VERSION:2.0
PRODID:-//ChamberMaster//Event Calendar 2.0//EN
METHOD:PUBLISH
X-PUBLISHED-TTL:P3D
REFRESH-INTERVAL:P3D
CALSCALE:GREGORIAN
BEGIN:VEVENT
DTSTART:20240319T230000Z
DTEND:20240320T000000Z
X-MICROSOFT-CDO-ALLDAYEVENT:FALSE
SUMMARY:Future Educators Academy Information Session
DESCRIPTION:Now is your chance to explore Germanna's Future Educators Academy. Join us for an information session to learn more about this exciting learning opportunity. \n\nFuture Educators Academy is a college partnership lab school that prepares future elementary and special education teachers through dual enrollment using accelerated\, hands-on learning. This partnership includes specialized transfer agreements with James Madison University and the University of Mary Washington\, so students can graduate with a bachelor's degree and earn their teacher licensure two years after high school graduation.\n\n\n\nDinner will be served at the event.
X-ALT-DESC;FMTTYPE=text/html:<p>Now is your chance to explore Germanna&rsquo\;s Future Educators Academy. Join us for an information session to learn more about this exciting learning opportunity.&nbsp\;</p>\n\n<p>Future Educators Academy&nbsp\;is a college partnership lab school that prepares future elementary and special education teachers through dual enrollment using accelerated\, hands-on learning. This partnership includes specialized transfer agreements with James Madison University and the University of Mary Washington\, so students can graduate with a bachelor&rsquo\;s degree and earn their teacher licensure two years after high school graduation.<br />\n<br />\nDinner will be served at the event.</p>\n
LOCATION:Joseph R. Daniel Technology Center 18121 Technology Drive\, Culpeper\, VA 22701
UID:e.492.13897
SEQUENCE:3
DTSTAMP:20260422T035216Z
URL:https://members.fredericksburgchamber.org/events/details/future-educators-academy-information-session-13897
END:VEVENT

END:VCALENDAR
