BEGIN:VCALENDAR
VERSION:2.0
PRODID:-//ChamberMaster//Event Calendar 2.0//EN
METHOD:PUBLISH
X-PUBLISHED-TTL:P3D
REFRESH-INTERVAL:P3D
CALSCALE:GREGORIAN
BEGIN:VEVENT
DTSTART:20260109T180000Z
DTEND:20260111T200000Z
X-MICROSOFT-CDO-ALLDAYEVENT:FALSE
SUMMARY:FXBG Boat & Water Sports Sale
DESCRIPTION:FXBG Boat & Water Sports Sale   Get Ready for Summer Fun!\n\nWhat better time to start preparing for summer than during the cold\, dark days of winter? Get ready for fun in the sun at the FXBG Boat & Water Sports Sale! Whether you're in the market for a wake boat\, speed boat\, pontoon boat\, bass boat\, jet ski\, or any type of watercraft\, we have something for everyone.\n\nDiscover the Perfect Watercraft\n\nNot sure which boat or watercraft suits you? Our boating experts will be on hand to help you find the perfect vessel to match your style and needs.\n\nLargest Boat Show in the Area\n\n\n	80\,000+ sq ft of boats under one roof!\n	Over 150 boats from various dealers across Virginia & Maryland.\n	Explore wake boats\, pontoon boats\, fishing boats\, cruisers\, jet skis\, and more!\n	Exclusive FXBG Boat Show offers only available at the event!
X-ALT-DESC;FMTTYPE=text/html:<p><strong>FXBG Boat &amp\; Water Sports Sale &ndash\; Get Ready for Summer Fun!</strong></p>\n\n<p>What better time to start preparing for summer than during the cold\, dark days of winter? Get ready for fun in the sun at the&nbsp\;<strong>FXBG Boat &amp\; Water Sports Sale!</strong>&nbsp\;Whether you&rsquo\;re in the market for a wake boat\, speed boat\, pontoon boat\, bass boat\, jet ski\, or any type of watercraft\, we have something for everyone.</p>\n\n<p><strong>Discover the Perfect Watercraft</strong><br />\nNot sure which boat or watercraft suits you? Our boating experts will be on hand to help you find the perfect vessel to match your style and needs.</p>\n\n<p><strong>Largest Boat Show in the Area</strong></p>\n\n<ul>\n	<li><strong>80\,000+ sq ft</strong>&nbsp\;of boats under one roof!</li>\n	<li>Over&nbsp\;<strong>150 boats</strong>&nbsp\;from various dealers across Virginia &amp\; Maryland.</li>\n	<li>Explore wake boats\, pontoon boats\, fishing boats\, cruisers\, jet skis\, and more!</li>\n	<li>Exclusive FXBG Boat Show offers only available at the event!</li>\n</ul>\n
LOCATION:Fredericksburg Convention Center 2371 Carl D Silver Parkway Fredericksburg\, VA 22401
UID:e.492.15122
SEQUENCE:3
DTSTAMP:20260421T150142Z
URL:https://members.fredericksburgchamber.org/events/details/fxbg-boat-water-sports-sale-15122
END:VEVENT

END:VCALENDAR
