BEGIN:VCALENDAR
VERSION:2.0
PRODID:-//ChamberMaster//Event Calendar 2.0//EN
METHOD:PUBLISH
X-PUBLISHED-TTL:P3D
REFRESH-INTERVAL:P3D
CALSCALE:GREGORIAN
BEGIN:VEVENT
DTSTART:20221208T170000Z
DTEND:20221208T180000Z
X-MICROSOFT-CDO-ALLDAYEVENT:FALSE
SUMMARY:Germanna Campus Tour – at Barbara J. Fried Center
DESCRIPTION:Interested in getting started at Germanna? \n\n \n\nMonthly campus tours are offered at our Fredericksburg Area Campus\, Fredericksburg Center for Advanced Technology (FredCAT)\, and the Barbara J. Fried Center in Stafford. Tour the center\, get your questions answered\, and learn about our pathways\, programs\, and all Germanna has to offer. \n\n \n\nBook a tour today.
X-ALT-DESC;FMTTYPE=text/html:<span style="color:#333333">Interested in getting started at Germanna? </span><br />\n&nbsp\;<br />\n<span style="color:#333333">Monthly campus tours are offered at our Fredericksburg Area Campus\, Fredericksburg Center for Advanced Technology (FredCAT)\, and the Barbara J. Fried Center in Stafford. Tour the center\, get your questions answered\, and learn about our pathways\, programs\, and all Germanna has to offer. </span><br />\n&nbsp\;<br />\n<span style="color:#333333">Book a tour today.</span>
LOCATION:Barbara J. Fried Center in Stafford.
UID:e.492.13072
SEQUENCE:3
DTSTAMP:20260422T164234Z
URL:https://members.fredericksburgchamber.org/events/details/germanna-campus-tour-at-barbara-j-fried-center-12-08-2022-13072
END:VEVENT

END:VCALENDAR
