BEGIN:VCALENDAR
VERSION:2.0
PRODID:-//ChamberMaster//Event Calendar 2.0//EN
METHOD:PUBLISH
X-PUBLISHED-TTL:P3D
REFRESH-INTERVAL:P3D
CALSCALE:GREGORIAN
BEGIN:VEVENT
DTSTART:20251004T170000Z
DTEND:20251004T210000Z
X-MICROSOFT-CDO-ALLDAYEVENT:FALSE
SUMMARY:Germanna Community College Homecoming & 55th Anniversary Celebration
DESCRIPTION:Join Germanna Community College for its first-ever Homecoming as we celebrate 55 years of impact in our community! This milestone event brings together alumni\, students\, faculty\, families\, and friends for a day full of fun\, connection\, and celebration. Homecoming activities will include family-friendly entertainment\, opportunities to reconnect with fellow alumni\, and a chance to learn more about Germanna's history and future plans. Admission is free\, though advance registration is encouraged at germanna.edu/homecoming.  Don't miss this historic celebration come Remember\, Reunite\, and Reignite with Germanna!
X-ALT-DESC;FMTTYPE=text/html:Join Germanna Community College for its first-ever Homecoming as we celebrate 55 years of impact in our community! This milestone event brings together alumni\, students\, faculty\, families\, and friends for a day full of fun\, connection\, and celebration. Homecoming activities will include family-friendly entertainment\, opportunities to reconnect with fellow alumni\, and a chance to learn more about Germanna&rsquo\;s history and future plans. Admission is free\, though advance registration is encouraged at germanna.edu/homecoming.&nbsp\; Don&rsquo\;t miss this historic celebration&mdash\;come Remember\, Reunite\, and Reignite with Germanna!
LOCATION:10000 Germanna Point Dr\, Fredericksburg\, VA 22408
UID:e.492.15012
SEQUENCE:3
DTSTAMP:20260421T194625Z
URL:https://members.fredericksburgchamber.org/events/details/germanna-community-college-homecoming-55th-anniversary-celebration-15012
END:VEVENT

END:VCALENDAR
