BEGIN:VCALENDAR
VERSION:2.0
PRODID:-//ChamberMaster//Event Calendar 2.0//EN
METHOD:PUBLISH
X-PUBLISHED-TTL:P3D
REFRESH-INTERVAL:P3D
CALSCALE:GREGORIAN
BEGIN:VEVENT
DTSTART:20220928T160000Z
DTEND:20220928T170000Z
X-MICROSOFT-CDO-ALLDAYEVENT:FALSE
SUMMARY:Germanna Community Conversation with Allen Hornblum: Acres of Skin: Prisoners as “lab rats”
DESCRIPTION:Germanna Community Conversation with speaker Allen Hornblum:\n\nAcres of Skin: Prisoners as "lab rats"\n\n\n\nSeptember 28   12 p.m.\n\nVirtual & In-person   Workforce Building (SP2)\, Sealy Auditorium  \n\ngermanna.edu/conversations\n\n\n\nJoin us in conversation with bioethicist and author Allen M. Hornblum and Germanna student\, Adrianne Jones-Alston. Jones-Alston's father\, Leodus Jones\, was the subject of Hornblum's book "Sentenced to Science\," which chronicles the experience and aftermath of his treatment at Holmesburg prison. The Philadelphia prison\, closed in 1995\, was nicknamed "The Terrordome" and was the site of inmate testing involving dermatological\, pharmaceutical\, and weapons research projects. Prisoners were unknowingly exposed to everything from dioxin to LSD.
X-ALT-DESC;FMTTYPE=text/html:<span style="font-size:14px"><strong><span style="color:#333333"><span style="font-family:poppins">Germanna Community Conversation with speaker Allen Hornblum:</span></span></strong><br />\n<strong><span style="color:#333333"><span style="font-family:poppins">Acres of Skin: Prisoners as &ldquo\;lab rats&rdquo\;</span></span></strong></span><br />\n<br />\n<strong><span style="color:#333333"><span style="font-family:poppins">September 28 &bull\; 12 p.m.</span></span></strong><br />\n<strong><span style="color:#333333"><span style="font-family:poppins"><span style="font-size:10.0pt">Virtual &amp\;&nbsp\;</span></span></span></strong><strong><span style="color:#333333"><span style="font-family:poppins"><span style="font-size:10.0pt">In-person &ndash\; Workforce Building (SP2)\, Sealy Auditorium &nbsp\;</span></span></span></strong><br />\n<strong><span style="color:#333333"><span style="font-family:poppins"><span style="font-size:10.0pt"><a href="http://germanna.edu/conversations" target="_blank"><span style="color:#1155CC">germanna.edu/conversations</span></a></span></span></span></strong><br />\n<br />\n<span style="color:#333333"><span style="font-family:poppins"><span style="font-size:12.0pt">Join us in conversation with bioethicist and author Allen M. Hornblum and Germanna student\, Adrianne Jones-Alston. Jones-Alston&rsquo\;s father\, Leodus Jones\, was the subject of Hornblum&rsquo\;s book &ldquo\;Sentenced to Science\,&rdquo\; which chronicles the experience and aftermath of his treatment at Holmesburg prison. The Philadelphia prison\, closed in 1995\, was nicknamed &ldquo\;The Terrordome&rdquo\; and was the site of inmate testing involving dermatological\, pharmaceutical\, and weapons research projects. Prisoners were unknowingly exposed to everything from dioxin to LSD.</span></span></span>
LOCATION:Virtual & In-person Workforce Building (SP2)\, Sealy Auditorium
UID:e.492.13101
SEQUENCE:3
DTSTAMP:20260422T194740Z
URL:https://members.fredericksburgchamber.org/events/details/germanna-community-conversation-with-allen-hornblum-acres-of-skin-prisoners-as-lab-rats-13101
END:VEVENT

END:VCALENDAR
