BEGIN:VCALENDAR
VERSION:2.0
PRODID:-//ChamberMaster//Event Calendar 2.0//EN
METHOD:PUBLISH
X-PUBLISHED-TTL:P3D
REFRESH-INTERVAL:P3D
CALSCALE:GREGORIAN
BEGIN:VEVENT
DTSTART:20220915T230000Z
DTEND:20220916T000000Z
X-MICROSOFT-CDO-ALLDAYEVENT:FALSE
SUMMARY:Germanna Community Conversation with S.E. Cupp on The Media and Modern Conservatism
DESCRIPTION:Germanna Community Conversation with speaker S.E. Cupp:\n\nThe Media and Modern Conservatism\n\n\n\nSeptember 15   7 p.m.\n\nVirtual\n\ngermanna.edu/conversations\n\n\n\nIt is almost a clich  now for Americans across the political spectrum to blame different media outlets for the strained nature of political discourse in the United States. Join us in conversation with CNN commentator and practical conservative S.E. Cupp as we discuss what she feels her media colleagues get right and wrong about modern conservatism\; the current political climate in the United States\; and how the media influences how we talk to one another.
X-ALT-DESC;FMTTYPE=text/html:<span style="font-size:14px"><strong><span style="color:#333333"><span style="font-family:poppins">Germanna Community Conversation with speaker S.E. Cupp:</span></span></strong></span><br />\n<strong><span style="color:#333333"><span style="font-family:poppins"><span style="font-size:14px">The Media and Modern Conservatism</span></span></span></strong><br />\n<br />\n<strong><span style="color:#333333"><span style="font-family:poppins">September 15 &bull\; 7 p.m.</span></span></strong><br />\n<strong><span style="color:#333333"><span style="font-family:poppins">Virtual</span></span></strong><br />\n<strong><span style="color:#333333"><span style="font-family:poppins"><a href="http://germanna.edu/conversations" target="_blank"><span style="color:#1155CC">germanna.edu/conversations</span></a></span></span></strong><br />\n<br />\n<span style="color:#333333"><span style="font-family:poppins"><span style="font-size:12.0pt">It is almost a clich&eacute\; now for Americans across the political spectrum to blame different media outlets for the strained nature of political discourse in the United States. Join us in conversation with CNN commentator and practical conservative S.E. Cupp as we discuss what she feels her media colleagues get right and wrong about modern conservatism\; the current political climate in the United States\; and how the media influences how we talk to one another.</span></span></span>
LOCATION:Virtual
UID:e.492.13100
SEQUENCE:3
DTSTAMP:20260422T194127Z
URL:https://members.fredericksburgchamber.org/events/details/germanna-community-conversation-with-s-e-cupp-on-the-media-and-modern-conservatism-13100
END:VEVENT

END:VCALENDAR
