BEGIN:VCALENDAR
VERSION:2.0
PRODID:-//ChamberMaster//Event Calendar 2.0//EN
METHOD:PUBLISH
X-PUBLISHED-TTL:P3D
REFRESH-INTERVAL:P3D
CALSCALE:GREGORIAN
BEGIN:VEVENT
DTSTART:20221111T000000Z
DTEND:20221111T010000Z
X-MICROSOFT-CDO-ALLDAYEVENT:FALSE
SUMMARY:Germanna Community Conversation with speaker Dr. Shaun Harper on Teaching and Relational Practices for Underserved Students
DESCRIPTION:Germanna Community Conversation with speaker Dr. Shaun Harper:\n\nTeaching and relational practices for underserved students\n\n\n\nNovember 10   7 p.m.\n\nVirtual\n\ngermanna.edu/conversations\n\n\n\nJoin us in conversation with Dr. Shaun Harper\, founder and director of the Race and Equity Center\, University Professor and Provost Professor of Education and Business at the University of Southern California. Dr. Harper will discuss how creating a classroom climate of success for underserved students can lead to more equitable outcomes for all students. Dr. Harper has worked with over 400 businesses in matters related to diversity\, equity\, and inclusion\, authored 12 books and over 100 articles\, and has been featured or quoted in The Washington Post\, The New York Times\, and The Wall Street Journal.
X-ALT-DESC;FMTTYPE=text/html:<span style="font-size:14px"><span style="color:rgb(51\, 51\, 51)"><span style="font-family:poppins"><strong>Germanna Community Conversation with speaker Dr. Shaun Harper:</strong></span></span><br />\n<span style="color:rgb(51\, 51\, 51)"><span style="font-family:poppins"><strong>T</strong><strong>eaching and relational practices for underserved students</strong></span></span></span><br />\n<br />\n<strong><span style="color:#333333"><span style="font-family:poppins">November 10 &bull\; 7 p.m.</span></span></strong><br />\n<strong><span style="font-family:poppins">Virtual</span></strong><br />\n<strong><span style="color:#333333"><span style="font-family:poppins"><span style="font-size:10.0pt">germanna.edu/conversations</span></span></span></strong><br />\n<br />\n<span style="color:#333333"><span style="font-family:poppins"><span style="font-size:12.0pt">Join us in conversation with Dr. Shaun Harper\, founder and director of the Race and Equity Center\, University Professor and Provost Professor of Education and Business at the University of Southern California. Dr. Harper will discuss how creating a classroom climate of success for underserved students can lead to more equitable outcomes for all students. Dr. Harper has worked with over 400 businesses in matters related to diversity\, equity\, and inclusion\, authored 12 books and over 100 articles\, and has been featured or quoted in The Washington Post\, The New York Times\, and The Wall Street Journal.</span></span></span><br />\n&nbsp\;
LOCATION:Virtual
UID:e.492.13103
SEQUENCE:3
DTSTAMP:20260422T180145Z
URL:https://members.fredericksburgchamber.org/events/details/germanna-community-conversation-with-speaker-dr-shaun-harper-on-teaching-and-relational-practices-for-underserved-students-13103
END:VEVENT

END:VCALENDAR
