BEGIN:VCALENDAR
VERSION:2.0
PRODID:-//ChamberMaster//Event Calendar 2.0//EN
METHOD:PUBLISH
X-PUBLISHED-TTL:P3D
REFRESH-INTERVAL:P3D
CALSCALE:GREGORIAN
BEGIN:VEVENT
DTSTART:20231019T230000Z
DTEND:20231020T000000Z
X-MICROSOFT-CDO-ALLDAYEVENT:FALSE
SUMMARY:Germanna Community Conversations - Advocating From the Intersections
DESCRIPTION:Brandon Wolf\, nationally recognized gun safety advocate and press secretary for Equality Florida\, will explore the need for intersectionality\, the limitless power of sharing our authentic stories\, and the links between the multiple crises facing our nation.
X-ALT-DESC;FMTTYPE=text/html:<span style="color:rgb(0\, 43\, 73)\; font-family:poppins\,helvetica neue\,helvetica\,arial\,sans-serif\; font-size:14px">Brandon Wolf\, nationally recognized gun safety advocate and press secretary for Equality Florida\, will explore the need for intersectionality</span><span style="color:rgb(0\, 43\, 73)\; font-family:poppins\,helvetica neue\,helvetica\,arial\,sans-serif\; font-size:14px">\, the limitless power of sharing our authentic stories\, and the links between the multiple crises facing our nation.&nbsp\;</span>
LOCATION:Virtual - Zoom
UID:e.492.13685
SEQUENCE:3
DTSTAMP:20260421T231329Z
URL:https://members.fredericksburgchamber.org/events/details/germanna-community-conversations-advocating-from-the-intersections-13685
END:VEVENT

END:VCALENDAR
