BEGIN:VCALENDAR
VERSION:2.0
PRODID:-//ChamberMaster//Event Calendar 2.0//EN
METHOD:PUBLISH
X-PUBLISHED-TTL:P3D
REFRESH-INTERVAL:P3D
CALSCALE:GREGORIAN
BEGIN:VEVENT
DTSTART:20230918T230000Z
DTEND:20230919T000000Z
X-MICROSOFT-CDO-ALLDAYEVENT:FALSE
SUMMARY:Germanna Community Conversations - Unity in Our Community
DESCRIPTION:Nationally renowned speaker Chris Singleton will use his own personal experience to inform and inspire others\, as he tackles diversity\, equity\, and inclusion in a unique way. This engaging discussion will show the importance of unifying as a community and give a different perspective on privilege and racism. A limited number of spaces are available on a first-come\, first-served basis.
X-ALT-DESC;FMTTYPE=text/html:<span style="color:rgb(0\, 43\, 73)\; font-family:poppins\,helvetica neue\,helvetica\,arial\,sans-serif\; font-size:14px">Nationally renowned speaker Chris Singleton will use his own personal experience to inform and inspire others\, as he tackles diversity\, equity\, and inclusion in a unique way.&nbsp\;This engaging discussion will show the importance of unifying as a community and give a different perspective on privilege and racism.&nbsp\;A limited number of spaces are available on a first-come\, first-served basis.</span>
LOCATION:Fredericksburg Nationals Stadium - Clubhouse Suite 42 Jackie Robinson Way | Fredericksburg\, VA 22401
UID:e.492.13683
SEQUENCE:3
DTSTAMP:20260422T004901Z
URL:https://members.fredericksburgchamber.org/events/details/germanna-community-conversations-unity-in-our-community-13683
END:VEVENT

END:VCALENDAR
