BEGIN:VCALENDAR
VERSION:2.0
PRODID:-//ChamberMaster//Event Calendar 2.0//EN
METHOD:PUBLISH
X-PUBLISHED-TTL:P3D
REFRESH-INTERVAL:P3D
CALSCALE:GREGORIAN
BEGIN:VEVENT
DTSTART:20221020T230000Z
DTEND:20221021T000000Z
X-MICROSOFT-CDO-ALLDAYEVENT:FALSE
SUMMARY:Germanna Community Coversation with speaker Michele Norris: How do we talk about our differences?
DESCRIPTION:Speaker: Michele Norris\n\nHow do we talk about our differences?\n\n\n\nOctober 20   7 p.m.\n\nVirtual\n\ngermanna.edu/conversations\n\n\n\nWhere do we start when we need to have productive conversations about race\, diversity\, and bias? Join us in conversation with Peabody award-winning journalist and Washington Post columnist Michele Norris. As host of National Public Radio's longest-running program\, "All Things Considered"\, Norris captivated audiences nationwide while earning some of journalism's highest honors. As a Washington Post Opinions columnist\, Norris breaks down commonly held beliefs and attitudes on race through important dialogue on current events and social issues.
X-ALT-DESC;FMTTYPE=text/html:<span style="font-size:14px"><strong><span style="color:#333333"><span style="font-family:poppins">Speaker: Michele Norris</span></span></strong><br />\n<strong><span style="color:#333333"><span style="font-family:poppins">How do we talk about our differences?</span></span></strong></span><br />\n<br />\n<strong><span style="color:#333333"><span style="font-family:poppins">October 20 &bull\; 7 p.m.</span></span></strong><br />\n<strong><span style="color:#333333"><span style="font-family:poppins">Virtual</span></span></strong><br />\n<strong><span style="color:#333333"><span style="font-family:poppins"><span style="font-size:10.0pt">germanna.edu/conversations</span></span></span></strong><br />\n<br />\n<span style="color:#333333"><span style="font-family:poppins"><span style="font-size:12.0pt">Where do we start when we need to have productive conversations about race\, diversity\, and bias? Join us in conversation with Peabody award-winning journalist and Washington Post columnist Michele Norris. As host of National Public Radio&rsquo\;s longest-running program\, &ldquo\;All Things Considered&rdquo\;\, Norris captivated audiences nationwide while earning some of journalism&rsquo\;s highest honors. As a Washington Post Opinions columnist\, Norris breaks down commonly held beliefs and attitudes on race through important dialogue on current events and social issues.</span></span></span>
LOCATION:Virtual
UID:e.492.13102
SEQUENCE:3
DTSTAMP:20260422T181120Z
URL:https://members.fredericksburgchamber.org/events/details/germanna-community-coversation-with-speaker-michele-norris-how-do-we-talk-about-our-differences-13102
END:VEVENT

END:VCALENDAR
