BEGIN:VCALENDAR
VERSION:2.0
PRODID:-//ChamberMaster//Event Calendar 2.0//EN
METHOD:PUBLISH
X-PUBLISHED-TTL:P3D
REFRESH-INTERVAL:P3D
CALSCALE:GREGORIAN
BEGIN:VEVENT
DTSTART:20230615T220000Z
DTEND:20230615T230000Z
X-MICROSOFT-CDO-ALLDAYEVENT:FALSE
SUMMARY:Germanna - FAFSA Completion Nights
DESCRIPTION:Have you completed your FAFSA? We know that completing the FAFSA can be overwhelming\, so let us help you through the process.\n\n \n\nMeet with one of our knowledgeable financial aid advisors in a private Zoom room\, complete your FAFSA\, and get your questions answered.\n\n \n\nCompleting your FAFSA is the first step in exploring all your available financial aid options.
X-ALT-DESC;FMTTYPE=text/html:<p><span style="background-color:transparent\; color:rgb(0\, 43\, 73)\; font-family:calibri\,sans-serif\; font-size:11pt">Have you completed your FAFSA? We know that completing the FAFSA can be overwhelming\, so let us help you through the process.</span></p>\n\n<p>&nbsp\;</p>\n\n<p><span style="background-color:transparent\; color:rgb(0\, 43\, 73)\; font-family:calibri\,sans-serif\; font-size:11pt">Meet with one of our knowledgeable financial aid advisors in a private Zoom room\, complete your FAFSA\, and get your questions answered.</span></p>\n\n<p>&nbsp\;</p>\n\n<p><span style="background-color:transparent\; color:rgb(0\, 43\, 73)\; font-family:calibri\,sans-serif\; font-size:11pt">Completing your FAFSA is the first step in exploring all your available financial aid options.</span></p>\n
LOCATION:Online via Zoom
UID:e.492.13405
SEQUENCE:3
DTSTAMP:20260422T054505Z
URL:https://members.fredericksburgchamber.org/events/details/germanna-fafsa-completion-nights-06-15-2023-13405
END:VEVENT

END:VCALENDAR
