BEGIN:VCALENDAR
VERSION:2.0
PRODID:-//ChamberMaster//Event Calendar 2.0//EN
METHOD:PUBLISH
X-PUBLISHED-TTL:P3D
REFRESH-INTERVAL:P3D
CALSCALE:GREGORIAN
BEGIN:VEVENT
DTSTART:20220813T140000Z
DTEND:20220813T150000Z
X-MICROSOFT-CDO-ALLDAYEVENT:FALSE
SUMMARY:Germanna FredCAT Tour in Central Park
DESCRIPTION:We now offer monthly onsite tours of our Fredericksburg Center for Advanced Technology (FredCAT) in Central Park. The Center is the site for our apprenticeship and skilled trades training programs including Electrical\, Heavy Equipment Operator\, HVAC\, and Plumbing. \n\n \n\nCome by and see for yourself all we have to offer. Register to attend.
X-ALT-DESC;FMTTYPE=text/html:<span style="color:#333333">We now offer monthly onsite tours of our Fredericksburg Center for Advanced Technology (FredCAT) in Central Park. The Center is the site for our apprenticeship and skilled trades training programs including Electrical\, Heavy Equipment Operator\, HVAC\, and Plumbing. </span><br />\n&nbsp\;<br />\nCome by and see for yourself all we have to offer. <span style="color:#333333">Register to attend. </span>
LOCATION:Fredericksburg Center for Advanced Technology (FredCAT) in Central Park.
UID:e.492.13063
SEQUENCE:3
DTSTAMP:20260422T225753Z
URL:https://members.fredericksburgchamber.org/events/details/germanna-fredcat-tour-in-central-park-13063
END:VEVENT

END:VCALENDAR
