BEGIN:VCALENDAR
VERSION:2.0
PRODID:-//ChamberMaster//Event Calendar 2.0//EN
METHOD:PUBLISH
X-PUBLISHED-TTL:P3D
REFRESH-INTERVAL:P3D
CALSCALE:GREGORIAN
BEGIN:VEVENT
DTSTART:20230327T220000Z
DTEND:20230328T020000Z
X-MICROSOFT-CDO-ALLDAYEVENT:FALSE
SUMMARY:Germanna's Night Out
DESCRIPTION:In celebration of Women's History\, the office of Equity Advancement is sponsoring "Germanna's Night Out" with a screening of The Woman King and a panel discussion featuring some of GCC's faculty members and staff at Paragon Theater Monday\, March 27th\, from 6:00   10:00 P.M. Before the screening\, panelists will discuss the importance of this film as it relates to gender roles and representation within our current culture.\n\nRSVP for you and one guest to attend by March 13\, 2023. Show your GCC Spirit and wear your favorite GCC gear.\n\nMake sure to arrive early to enjoy complimentary popcorn and drinks!
X-ALT-DESC;FMTTYPE=text/html:<p><span style="font-family:arial\;">In celebration of Women&#39\;s History\, the office of Equity Advancement is sponsoring &quot\;Germanna&rsquo\;s Night Out&rdquo\; with a screening of&nbsp\;<em>The Woman King</em>&nbsp\;and a panel discussion featuring some of GCC&rsquo\;s faculty members and staff at Paragon Theater&nbsp\;Monday\, March 27th\, from 6:00 &ndash\; 10:00 P.M. Before the screening\, panelists will discuss the importance of this film as it relates to gender roles and representation within our current culture.</span></p>\n\n<p><span style="font-family:arial\;">RSVP for you and one guest to attend by&nbsp\;March 13\, 2023. Show your GCC Spirit and wear your favorite GCC gear.</span></p>\n\n<p><span style="font-family:arial\;">Make sure to arrive early to enjoy complimentary popcorn and drinks!</span></p>\n
LOCATION:Paragon Theater 51 Towne Centre Blvd Fredericksburg\, VA 22407
UID:e.492.13453
SEQUENCE:3
DTSTAMP:20260422T115044Z
URL:https://members.fredericksburgchamber.org/events/details/germanna-s-night-out-13453
END:VEVENT

END:VCALENDAR
