BEGIN:VCALENDAR
VERSION:2.0
PRODID:-//ChamberMaster//Event Calendar 2.0//EN
METHOD:PUBLISH
X-PUBLISHED-TTL:P3D
REFRESH-INTERVAL:P3D
CALSCALE:GREGORIAN
BEGIN:VEVENT
DTSTART:20230401T140000Z
DTEND:20230401T180000Z
X-MICROSOFT-CDO-ALLDAYEVENT:FALSE
SUMMARY:Germanna STEAM H Day
DESCRIPTION:Here are just a few examples of activities designed for grades K-12:\n\n  Drones\n\n  Geology rocks\n\n  Learn to use a microscope\n\n  Drawing & painting\n\nfrom observation\n\n  Hands only CPR & AED\n\n  Fibonacci art\n\n  Cybersecurity\n\n  Math games/activities\n\n  Game truck\n\n  Music & food\n\n  Take a campus tour\n\n  Ice cream\n\n  Bounce house\n\n  Giant Jenga\n\nWe are collecting canned and boxed food and personal hygiene items for the Food Pantry at the event.
X-ALT-DESC;FMTTYPE=text/html:Here are just a few examples of activities designed for grades K-12:<br />\n&bull\; Drones<br />\n&bull\; Geology rocks<br />\n&bull\; Learn to use a microscope<br />\n&bull\; Drawing &amp\; painting<br />\nfrom observation<br />\n&bull\; Hands only CPR &amp\; AED<br />\n&bull\; Fibonacci art<br />\n&bull\; Cybersecurity<br />\n&bull\; Math games/activities<br />\n&bull\; Game truck<br />\n&bull\; Music &amp\; food<br />\n&bull\; Take a campus tour<br />\n&bull\; Ice cream<br />\n&bull\; Bounce house<br />\n&bull\; Giant Jenga<br />\nWe are collecting canned and boxed food and personal hygiene items for the Food Pantry at the event.
LOCATION:Fredericksburg Campus\, 10000 Germanna Point Drive\, Fredericksburg\, VA
UID:e.492.13421
SEQUENCE:3
DTSTAMP:20260422T102444Z
URL:https://members.fredericksburgchamber.org/events/details/germanna-science-engineering-day-04-01-2023-13421
END:VEVENT

END:VCALENDAR
