BEGIN:VCALENDAR
VERSION:2.0
PRODID:-//ChamberMaster//Event Calendar 2.0//EN
METHOD:PUBLISH
X-PUBLISHED-TTL:P3D
REFRESH-INTERVAL:P3D
CALSCALE:GREGORIAN
BEGIN:VEVENT
DTSTART:20230401T140000Z
DTEND:20230401T170000Z
X-MICROSOFT-CDO-ALLDAYEVENT:FALSE
SUMMARY:Germanna Spring Open House
DESCRIPTION:Join us for our in-person Spring Open House to explore all that Germanna has to offer.\n\nThis is your chance to learn more about our services\, explore our programs\, and take a tour of our Fredericksburg campus. Germanna faculty\, staff\, and alumni will be on hand to answer questions and provide any additional information. Lunch will be provided.\n\nThis is an incredible opportunity to learn how you can get started at Germanna. \n\nTake the first step towards a brighter future.
X-ALT-DESC;FMTTYPE=text/html:<p>Join us for our in-person Spring Open House to explore all that Germanna has to offer.</p>\n\n<p>This is your chance to learn more about our services\, explore our programs\, and take a tour&nbsp\;of our Fredericksburg campus. Germanna faculty\, staff\, and alumni will be on hand to answer questions and provide any additional information. Lunch will be provided.</p>\n\n<p>This is an incredible opportunity to learn how you can get started at Germanna.&nbsp\;</p>\n\n<p>Take the first step towards a brighter future.</p>\n
LOCATION:Fredericksburg Area Campus 10000 Germanna Point Drive Fredericksburg\, VA 22408
UID:e.492.13426
SEQUENCE:3
DTSTAMP:20260422T084217Z
URL:https://members.fredericksburgchamber.org/events/details/germanna-spring-open-house-13426
END:VEVENT

END:VCALENDAR
