BEGIN:VCALENDAR
VERSION:2.0
PRODID:-//ChamberMaster//Event Calendar 2.0//EN
METHOD:PUBLISH
X-PUBLISHED-TTL:P3D
REFRESH-INTERVAL:P3D
CALSCALE:GREGORIAN
BEGIN:VEVENT
DTSTART:20240406T140000Z
DTEND:20240406T180000Z
X-MICROSOFT-CDO-ALLDAYEVENT:FALSE
SUMMARY:Germanna STEAM H Day
DESCRIPTION:For students grades K-12 and their families.\n\nPrepare for a fun-filled day of learning. Bring your family to this interactive event and explore the exciting new innovations in science\, technology\, engineering\, the arts\, and mathematics.\n\nHere are just a few examples of activities designed for grades K-12:\n\n  Drones\n\n  Geology rocks\n\n  Learn to use a microscope\n\n  Drawing & painting from observation\n\n  Hands only CPR & AED\n\n  Fibonacci art\n\n  Cybersecurity\n\n  Math games/activities\n\n  Game truck\n\n  Music & food\n\n  Take a campus tour\n\n  Ice cream\n\n  Bounce house\n\n  Giant Jenga\n\nWe are collecting canned and boxed food and personal hygiene items for the Food Pantry at the event.\n\nPantry Items Needed
X-ALT-DESC;FMTTYPE=text/html:<div style="margin-left:auto\; margin-right:auto">\n<h4>For students grades K-12 and their families.</h4>\n\n<p><strong>Prepare for a fun-filled day of learning.&nbsp\;</strong>Bring your family to this interactive event and explore the exciting new innovations in science\, technology\, engineering\, the arts\, and mathematics.</p>\n\n<p>Here are just a few examples of activities designed for grades K-12:<br />\n&bull\; Drones<br />\n&bull\; Geology rocks<br />\n&bull\; Learn to use a microscope<br />\n&bull\; Drawing &amp\; painting from observation<br />\n&bull\; Hands only CPR &amp\; AED<br />\n&bull\; Fibonacci art<br />\n&bull\; Cybersecurity<br />\n&bull\; Math games/activities<br />\n&bull\; Game truck<br />\n&bull\; Music &amp\; food<br />\n&bull\; Take a campus tour<br />\n&bull\; Ice cream<br />\n&bull\; Bounce house<br />\n&bull\; Giant Jenga</p>\n\n<h5><span style="font-size:12px"><strong>We are collecting canned and boxed food and personal hygiene items for the Food Pantry at the event.</strong></span></h5>\n\n<p><a class="btn btn-secondary" href="https://live-germanna.pantheonsite.io/sites/default/files/2023-02/Food_Pantry_items.pdf" style="box-sizing: border-box\; color: rgb(255\, 255\, 255)\; background-color: rgb(0\, 43\, 73)\; text-decoration-line: none\; font-weight: 600\; vertical-align: middle\; user-select: none\; border: 2px solid rgb(255\, 255\, 255)\; font-size: 18px\; line-height: 27px\; border-radius: 60px\; transition: all 0.2s ease-in-out 0s\; display: inline-block\; max-width: none\; width: auto\; padding: 12px 50px 12px 30px\; text-align: center\; position: relative\; outline: none\; box-shadow: none\; background-image: none\;">Pantry Items Needed</a></p>\n</div>\n
LOCATION:Germanna Fredericksburg Campus 10000 Germanna Point Drive Fredericksburg\, VA 22408
UID:e.492.13888
SEQUENCE:3
DTSTAMP:20260422T054207Z
URL:https://members.fredericksburgchamber.org/events/details/germanna-steam-h-day-13888
END:VEVENT

END:VCALENDAR
