BEGIN:VCALENDAR
VERSION:2.0
PRODID:-//ChamberMaster//Event Calendar 2.0//EN
METHOD:PUBLISH
X-PUBLISHED-TTL:P3D
REFRESH-INTERVAL:P3D
CALSCALE:GREGORIAN
BEGIN:VEVENT
DTSTART:20230715T220000Z
DTEND:20230716T030000Z
X-MICROSOFT-CDO-ALLDAYEVENT:FALSE
SUMMARY:Germanna Together Gala – Celebrating Dr. Patti Lisk
DESCRIPTION:An exciting gala celebrating the contributions of Dr. Patti Lisk.
X-ALT-DESC;FMTTYPE=text/html:<span style="color:rgb(0\, 0\, 0)\; font-family:verdana\,sans-serif\; font-size:11.3333px">An exciting gala celebrating the contributions of Dr. Patti Lisk.</span>
LOCATION:Woolen Mill 203 Ford Street\, Fredericksburg\, VA 22401
UID:e.492.13604
SEQUENCE:3
DTSTAMP:20260422T040759Z
URL:https://members.fredericksburgchamber.org/events/details/germanna-together-gala-celebrating-dr-patti-lisk-13604
END:VEVENT

END:VCALENDAR
