BEGIN:VCALENDAR
VERSION:2.0
PRODID:-//ChamberMaster//Event Calendar 2.0//EN
METHOD:PUBLISH
X-PUBLISHED-TTL:P3D
REFRESH-INTERVAL:P3D
CALSCALE:GREGORIAN
BEGIN:VEVENT
DTSTART:20240111T200000Z
DTEND:20240111T230000Z
X-MICROSOFT-CDO-ALLDAYEVENT:FALSE
SUMMARY:Germanna Welcome Day
DESCRIPTION:Welcome Day is for you.\n\nOur goal is to make you feel welcome at Germanna Community College\, create a sense of belonging for you and your family and ensure you feel ready for the first day of fall classes. Prospective students attending our open house will also have the opportunity to engage with our faculty\, staff\, administrators\, community partners and fellow students to learn everything you need to know about Germanna.\n\nThis is your college experience\; let's make it great together!
X-ALT-DESC;FMTTYPE=text/html:<p>Welcome Day is for&nbsp\;<strong>you</strong>.</p>\n\n<p>Our goal is to make you feel welcome at Germanna Community College\, create a sense of belonging for you and your family and ensure you feel ready for the first day of fall classes. Prospective students attending our open house will also have the opportunity to engage with our faculty\, staff\, administrators\, community partners and fellow students to learn everything you need to know about Germanna.</p>\n\n<p>This is your college experience\; let&#39\;s make it great together!</p>\n
LOCATION:Barbara J. Fried Center Locust Grove Campus Fredericksburg Area Campus
UID:e.492.13801
SEQUENCE:3
DTSTAMP:20260422T023105Z
URL:https://members.fredericksburgchamber.org/events/details/germanna-welcome-day-13801
END:VEVENT

END:VCALENDAR
