BEGIN:VCALENDAR
VERSION:2.0
PRODID:-//ChamberMaster//Event Calendar 2.0//EN
METHOD:PUBLISH
X-PUBLISHED-TTL:P3D
REFRESH-INTERVAL:P3D
CALSCALE:GREGORIAN
BEGIN:VEVENT
DTSTART:20240322T230000Z
DTEND:20240323T020000Z
X-MICROSOFT-CDO-ALLDAYEVENT:FALSE
SUMMARY:Girls on the Run Piedmont
DESCRIPTION:Girls on the Run Piedmont is excited to celebrate 10 years of empowering girls! Join us for our 1st ever Sneaker Soiree! This semi-formal event (but leave the high heels at home and wear some great sneakers) is a not to be missed event celebrating the women in our community as we raise funds to help provide shoes and scholarships for even more girls. In 10 years\, Girls on the Run Piedmont has served over 1600 girls and has NEVER turned a girl away due to her ability to pay the registration fee. The maximum registration fee per girl is $150\, but the average family pays about $93\, coupled with the rising costs of everything\, the actual costs per girl exceed $400 each season. There is also a higher need than ever for running shoes to allow girls to participate safely. Girls on the Run Piedmont provides nearly 50 pairs of high-quality running shoes to girls every year. Join us for this inspiring event that includes dinner\, custom wine glass\, inspiring messages\, dancing\, 360 photo booth and more. Win prizes for your most original sneaker! Business sponsorships available\, let us customize to fit your goals.
X-ALT-DESC;FMTTYPE=text/html:Girls on the Run Piedmont is excited to celebrate 10 years of empowering girls! Join us for our 1st ever Sneaker Soiree! This semi-formal event (but leave the high heels at home and wear some great sneakers) is a not to be missed event celebrating the women in our community as we raise funds to help provide shoes and scholarships for even more girls. In 10 years\, Girls on the Run Piedmont has served over 1600 girls and has NEVER turned a girl away due to her ability to pay the registration fee. The maximum registration fee per girl is $150\, but the average family pays about $93\, coupled with the rising costs of everything\, the actual costs per girl exceed $400 each season. There is also a higher need than ever for running shoes to allow girls to participate safely. Girls on the Run Piedmont provides nearly 50 pairs of high-quality running shoes to girls every year. Join us for this inspiring event that includes dinner\, custom wine glass\, inspiring messages\, dancing\, 360 photo booth and more. Win prizes for your most original sneaker! Business sponsorships available\, let us customize to fit your goals.
LOCATION:Stevenson Ridge Event Center 6901 Meeting Street Spotsylvania\, Virginia 22553
UID:e.492.13666
SEQUENCE:3
DTSTAMP:20260422T054535Z
URL:https://members.fredericksburgchamber.org/events/details/girls-on-the-run-piedmont-13666
END:VEVENT

END:VCALENDAR
