BEGIN:VCALENDAR
VERSION:2.0
PRODID:-//ChamberMaster//Event Calendar 2.0//EN
METHOD:PUBLISH
X-PUBLISHED-TTL:P3D
REFRESH-INTERVAL:P3D
CALSCALE:GREGORIAN
BEGIN:VEVENT
DTSTART:20231112T173000Z
DTEND:20231112T210000Z
X-MICROSOFT-CDO-ALLDAYEVENT:FALSE
SUMMARY:Girls on the Run Piedmont 5k and Birthday Bash
DESCRIPTION:Celebrate Girls and Women! Join Girls on the Run Piedmont for their season-ending celebratory 5K event and birthday bash! Doors open at 12:30 pm\, and the 5K starts at 2 pm. This 5K is an untimed\, no-pressure celebration of healthy movement. We invited men\, women\, and kids of all ages to come out to run this event. Whether it is your first 5K or your 50th 5K\, you will have fun\, be inspired and most importantly you will NOT FINISH LAST. Business sponsorships available\, contact us for custom packages.
X-ALT-DESC;FMTTYPE=text/html:Celebrate Girls and Women! Join Girls on the Run Piedmont for their season-ending celebratory 5K event and birthday bash! Doors open at 12:30 pm\, and the 5K starts at 2 pm. This 5K is an untimed\, no-pressure celebration of healthy movement. We invited men\, women\, and kids of all ages to come out to run this event. Whether it is your first 5K or your 50th 5K\, you will have fun\, be inspired and most importantly you will NOT FINISH LAST. Business sponsorships available\, contact us for custom packages.
LOCATION:Fredericksburg Nationals Baseball Stadium 42 Jackie Robinson Way Fredericksburg Nationals Baseballs Stadium (Next to the Fredericksburg Expo center)
UID:e.492.13665
SEQUENCE:3
DTSTAMP:20260422T000155Z
URL:https://members.fredericksburgchamber.org/events/details/girls-on-the-run-piedmont-5k-and-birthday-bash-13665
END:VEVENT

END:VCALENDAR
