BEGIN:VCALENDAR
VERSION:2.0
PRODID:-//ChamberMaster//Event Calendar 2.0//EN
METHOD:PUBLISH
X-PUBLISHED-TTL:P3D
REFRESH-INTERVAL:P3D
CALSCALE:GREGORIAN
BEGIN:VEVENT
DTSTART:20241110T180000Z
DTEND:20241110T210000Z
X-MICROSOFT-CDO-ALLDAYEVENT:FALSE
SUMMARY:Girls on the Run Piedmont - Fall 5K
DESCRIPTION:Girls on the Run Piedmont Fall 5K   A Celebration of Confidence\, Community\, and Fun!\n\nJoin us for the Girls on the Run Piedmont Fall 5K\, an exciting\, noncompetitive event focused on celebrating the achievements of our amazing girls! With over 900 runners and 1\,000 spectators expected\, this event is designed to be a day filled with joy\, community spirit\, and family fun. The 5K is untimed\, emphasizing participation over competition\, and giving every girl the chance to experience the thrill of crossing the finish line.\n\nSchools and teams will kick off the event with fun pre-race activities\, while families can enjoy interactive games\, music\, and entertainment. Whether you're cheering on a runner or joining in the race\, this 5K is a celebration of confidence\, resilience\, and the incredible power of teamwork.\n\nMark your calendars and get ready for an unforgettable day at the Fredericksburg Nationals Baseball Stadium. Let's come together as a community to support these girls as they discover that the impossible is possible!\n\nDate: November 10\n\nLocation: Fredericksburg Nationals Baseball Stadium\n\nEvent Focus: Community\, fun\, and empowering young girls!
X-ALT-DESC;FMTTYPE=text/html:<p><strong>Girls on the Run Piedmont Fall 5K &ndash\; A Celebration of Confidence\, Community\, and Fun!</strong></p>\n\n<p>Join us for the Girls on the Run Piedmont Fall 5K\, an exciting\, noncompetitive event focused on celebrating the achievements of our amazing girls! With over 900 runners and 1\,000 spectators expected\, this event is designed to be a day filled with joy\, community spirit\, and family fun. The 5K is untimed\, emphasizing participation over competition\, and giving every girl the chance to experience the thrill of crossing the finish line.</p>\n\n<p>Schools and teams will kick off the event with fun pre-race activities\, while families can enjoy interactive games\, music\, and entertainment. Whether you&#39\;re cheering on a runner or joining in the race\, this 5K is a celebration of confidence\, resilience\, and the incredible power of teamwork.</p>\n\n<p>Mark your calendars and get ready for an unforgettable day at the Fredericksburg Nationals Baseball Stadium. Let&rsquo\;s come together as a community to support these girls as they discover that the impossible is possible!</p>\n\n<p><strong>Date:</strong>&nbsp\;November 10<br />\n<strong>Location:</strong>&nbsp\;Fredericksburg Nationals Baseball Stadium<br />\n<strong>Event Focus:</strong>&nbsp\;Community\, fun\, and empowering young girls!</p>\n
LOCATION:Fredericksburg Nationals Baseball Stadium 42 Jackie Robinson Way Fredericksburg\, VA
UID:e.492.14255
SEQUENCE:3
DTSTAMP:20260424T180558Z
URL:https://members.fredericksburgchamber.org/events/details/girls-on-the-run-piedmont-fall-5k-11-10-2024-14255
END:VEVENT

END:VCALENDAR
