BEGIN:VCALENDAR
VERSION:2.0
PRODID:-//ChamberMaster//Event Calendar 2.0//EN
METHOD:PUBLISH
X-PUBLISHED-TTL:P3D
REFRESH-INTERVAL:P3D
CALSCALE:GREGORIAN
BEGIN:VEVENT
DTSTART:20221113T180000Z
DTEND:20221113T210000Z
X-MICROSOFT-CDO-ALLDAYEVENT:FALSE
SUMMARY:Girls on the run Piedmont Fall 5K
DESCRIPTION:Join girls from Culpeper\, Fauquier\, Fredericksburg\, Madison\, Rappahannock\, Spotsylvania and Stafford as they achieve their goal of completing a 5K. The entire community is invited to come out and run\, walk\, cheer or volunteer at the area's "Most Inspiring 5K event".
X-ALT-DESC;FMTTYPE=text/html:Join girls from Culpeper\, Fauquier\, Fredericksburg\, Madison\, Rappahannock\, Spotsylvania and Stafford as they achieve their goal of completing a 5K. The entire community is invited to come out and run\, walk\, cheer or volunteer at the area&#39\;s &quot\;Most Inspiring 5K event&quot\;.
LOCATION:Eastern View High School 16332 Cyclone Way\, Culpeper\, VA 22701
UID:e.492.13138
SEQUENCE:3
DTSTAMP:20260422T164124Z
URL:https://members.fredericksburgchamber.org/events/details/girls-on-the-run-piedmont-fall-5k-13138
END:VEVENT

END:VCALENDAR
