BEGIN:VCALENDAR
VERSION:2.0
PRODID:-//ChamberMaster//Event Calendar 2.0//EN
METHOD:PUBLISH
X-PUBLISHED-TTL:P3D
REFRESH-INTERVAL:P3D
CALSCALE:GREGORIAN
BEGIN:VEVENT
DTSTART:20260321T220000Z
DTEND:20260322T010000Z
X-MICROSOFT-CDO-ALLDAYEVENT:FALSE
SUMMARY:Girls on the Run Piedmont's Sneaker Soiree
DESCRIPTION:The Sneaker Soir e is a 21+ fundraising gala benefiting Girls on the Run Piedmont\, a nonprofit organization that empowers girls in grades 3 8 through a 10-week\, after-school program focused on confidence\, connection\, and healthy habits. This adults-only evening includes dinner\, entertainment\, and a silent auction featuring unique items and experiences from local businesses. Proceeds help ensure no girl is ever turned away due to financial need and support resources such as running shoes and program materials. Guests are encouraged to dress up and pair their outfit with their favorite sneakers for a fun night that makes a meaningful impact. ?? Stevenson Ridge Event Center ?? March 21 ?? 21+ Event
X-ALT-DESC;FMTTYPE=text/html:The Sneaker Soir&eacute\;e is a 21+ fundraising gala benefiting Girls on the Run Piedmont\, a nonprofit organization that empowers girls in grades 3&ndash\;8 through a 10-week\, after-school program focused on confidence\, connection\, and healthy habits. This adults-only evening includes dinner\, entertainment\, and a silent auction featuring unique items and experiences from local businesses. Proceeds help ensure no girl is ever turned away due to financial need and support resources such as running shoes and program materials. Guests are encouraged to dress up and pair their outfit with their favorite sneakers for a fun night that makes a meaningful impact. ?? Stevenson Ridge Event Center ?? March 21 ?? 21+ Event
LOCATION:Stevenson Ridge Event Center 6901 Meeting Street Fredericksburg\, VA 22553
UID:e.492.15119
SEQUENCE:3
DTSTAMP:20260421T114955Z
URL:https://members.fredericksburgchamber.org/events/details/girls-on-the-run-piedmont-s-sneaker-soiree-15119
END:VEVENT

END:VCALENDAR
