BEGIN:VCALENDAR
VERSION:2.0
PRODID:-//ChamberMaster//Event Calendar 2.0//EN
METHOD:PUBLISH
X-PUBLISHED-TTL:P3D
REFRESH-INTERVAL:P3D
CALSCALE:GREGORIAN
BEGIN:VEVENT
DTSTART:20250608T180000Z
DTEND:20250608T200000Z
X-MICROSOFT-CDO-ALLDAYEVENT:FALSE
SUMMARY:Girls on the Run Piedmont’s Star Power Celebration
DESCRIPTION:Join us for an inspiring afternoon of fun\, connection\, and empowerment at Girls on the Run Piedmont's Star Power Celebration! This free\, family-friendly event is packed with exciting activities for all ages!  Date: Saturday\, June 8th\, 2025  Time: 2:00 4:00 PM ?? Location: 2800 Princess Anne St.\, Fredericksburg\, VA 22401 ? What to Expect:  Games & activities for all ages  Free snacks & sweet treats  Laughter\, smiles\, and positive vibes  Learn more about the Girls on the Run program! Whether you're a GOTR alum\, future participant\, proud supporter\, or community friend\, we invite you to come celebrate with us. Let's make memories together and shine bright!  Questions? Contact Kelsey at: kelsey.edwards@girlsontherun.org  www.gotrpiedmont.org
X-ALT-DESC;FMTTYPE=text/html:Join us for an inspiring afternoon of fun\, connection\, and empowerment at Girls on the Run Piedmont&rsquo\;s Star Power Celebration! This free\, family-friendly event is packed with exciting activities for all ages!&nbsp\; Date: Saturday\, June 8th\, 2025&nbsp\; Time: 2:00&ndash\;4:00 PM ?? Location: 2800 Princess Anne St.\, Fredericksburg\, VA 22401 ? What to Expect:&nbsp\; Games &amp\; activities for all ages&nbsp\; Free snacks &amp\; sweet treats&nbsp\; Laughter\, smiles\, and positive vibes&nbsp\; Learn more about the Girls on the Run program! Whether you&rsquo\;re a GOTR alum\, future participant\, proud supporter\, or community friend\, we invite you to come celebrate with us. Let&rsquo\;s make memories together and shine bright!&nbsp\; Questions? Contact Kelsey at: kelsey.edwards@girlsontherun.org&nbsp\; www.gotrpiedmont.org
LOCATION:Next Home Stellar Reality - 2800 Princess Anne St\, Fredericksburg \, VA\, 22401
UID:e.492.14846
SEQUENCE:3
DTSTAMP:20260422T020613Z
URL:https://members.fredericksburgchamber.org/events/details/girls-on-the-run-piedmont-s-star-power-celebration-14846
END:VEVENT

END:VCALENDAR
