BEGIN:VCALENDAR
VERSION:2.0
PRODID:-//ChamberMaster//Event Calendar 2.0//EN
METHOD:PUBLISH
X-PUBLISHED-TTL:P3D
REFRESH-INTERVAL:P3D
CALSCALE:GREGORIAN
BEGIN:VEVENT
DTSTART:20221216T210000Z
DTEND:20221217T000000Z
X-MICROSOFT-CDO-ALLDAYEVENT:FALSE
SUMMARY:Glam Room Holiday Networking Social
DESCRIPTION:Glam Room Salon Suites Presents our first Holiday Hour Social Event!\n\nCome enjoy holiday cocktails\, refreshments\, music \, and networking.\n\nProfessional Headshots will be available for $75 (Dress for the occassion).
X-ALT-DESC;FMTTYPE=text/html:Glam Room Salon Suites Presents our first Holiday Hour Social Event!<br />\nCome enjoy holiday cocktails\, refreshments\, music \, and networking.<br />\nProfessional Headshots will be available for $75 (Dress for the occassion).
LOCATION:2046 Richmond Hwy Ste D Stafford\, VA 22554
UID:e.492.13276
SEQUENCE:3
DTSTAMP:20260422T151603Z
URL:https://members.fredericksburgchamber.org/events/details/glam-room-holiday-networking-social-13276
END:VEVENT

END:VCALENDAR
