BEGIN:VCALENDAR
VERSION:2.0
PRODID:-//ChamberMaster//Event Calendar 2.0//EN
METHOD:PUBLISH
X-PUBLISHED-TTL:P3D
REFRESH-INTERVAL:P3D
CALSCALE:GREGORIAN
BEGIN:VEVENT
DTSTART:20240123T140000Z
DTEND:20240123T200000Z
X-MICROSOFT-CDO-ALLDAYEVENT:FALSE
SUMMARY:GO Virginia Region 6 Economic Development Summit
DESCRIPTION:T?he GO Virginia Region 6 Regional Council invites you to join them for an economic development summit on January 23\, 2024 at the University of Mary Washington Dahlgren campus with a welcome reception and networking event on the evening of Monday\, January 22nd in Colonial Beach\, VA. The summit will include panelists and speakers from around the Region 6 and the Commonwealth.\n\nHotel Information:\n\nRiverview Inn\, Colonial Beach\, VA: Located next to the CoBE Workspaces and evening reception location on January 22nd.\n\nHoliday Inn Express Dahlgren\, King George\, VA: Located a half mile from UMW Dahlgren campus. Use code GOV at checkout for block room rate.Other hotel options in the area include:\n\nHampton Inn Dahlgren\,\n\nCountry Inn and Suites Dahlgren\,\n\nCourtyard by Marriott\, Downtown Fredericksburg\, VA (35 minutes to UMW Dahlgren)
X-ALT-DESC;FMTTYPE=text/html:<p>T?he GO Virginia Region 6 Regional Council invites you to join them for an economic development summit on January 23\, 2024 at the University of Mary Washington Dahlgren campus with a welcome reception and networking event on the evening of Monday\, January 22nd in Colonial Beach\, VA. The summit will include panelists and speakers from around the Region 6 and the Commonwealth.</p>\n\n<p>Hotel Information:</p>\n\n<p>Riverview Inn\, Colonial Beach\, VA: Located next to the CoBE Workspaces and evening reception location on January 22nd.</p>\n\n<p>Holiday Inn Express Dahlgren\, King George\, VA: Located a half mile from UMW Dahlgren campus. Use code GOV at checkout for block room rate.Other hotel options in the area include:</p>\n\n<p>Hampton Inn Dahlgren\,</p>\n\n<p>Country Inn and Suites Dahlgren\,</p>\n\n<p>Courtyard by Marriott\, Downtown Fredericksburg\, VA (35 minutes to UMW Dahlgren)</p>\n
LOCATION:University of Mary Washington Dahlgren campus
UID:e.492.13753
SEQUENCE:3
DTSTAMP:20260422T005012Z
URL:https://members.fredericksburgchamber.org/events/details/go-virginia-region-6-economic-development-summit-13753
END:VEVENT

END:VCALENDAR
