BEGIN:VCALENDAR
VERSION:2.0
PRODID:-//ChamberMaster//Event Calendar 2.0//EN
METHOD:PUBLISH
X-PUBLISHED-TTL:P3D
REFRESH-INTERVAL:P3D
CALSCALE:GREGORIAN
BEGIN:VEVENT
DTSTART:20221116T170000Z
DTEND:20221116T180000Z
X-MICROSOFT-CDO-ALLDAYEVENT:FALSE
SUMMARY:GovCon 101
DESCRIPTION:Topic: Marketing to the Government The Federal Government buys over $600 billion per year on goods and services\, 23% of that spend is allocated for small business. This is a huge opportunity for small firms to grow their business and become part of the challenging world of Government Contracting. Before entering into this arena you must first know how to market yourself to government. This presentation will help you prepare your firm to get noticed by government and prime buyers by developing a proper marketing plan and strategy. In this session you will learn:   Steps to take to be where you can be found by buyers   Preparing a winning capability statement   Organize your website\, business cards and marketing materials   Prepare a marketing plan to attract buyers
X-ALT-DESC;FMTTYPE=text/html:Topic: Marketing to the Government The Federal Government buys over $600 billion per year on goods and services\, 23% of that spend is allocated for small business. This is a huge opportunity for small firms to grow their business and become part of the challenging world of Government Contracting. Before entering into this arena you must first know how to market yourself to government. This presentation will help you prepare your firm to get noticed by government and prime buyers by developing a proper marketing plan and strategy. In this session you will learn: &bull\; Steps to take to be where you can be found by buyers &bull\; Preparing a winning capability statement &bull\; Organize your website\, business cards and marketing materials &bull\; Prepare a marketing plan to attract buyers
LOCATION:Online
UID:e.492.13169
SEQUENCE:3
DTSTAMP:20260422T175744Z
URL:https://members.fredericksburgchamber.org/events/details/govcon-101-13169
END:VEVENT

END:VCALENDAR
