BEGIN:VCALENDAR
VERSION:2.0
PRODID:-//ChamberMaster//Event Calendar 2.0//EN
METHOD:PUBLISH
X-PUBLISHED-TTL:P3D
REFRESH-INTERVAL:P3D
CALSCALE:GREGORIAN
BEGIN:VEVENT
DTSTART:20240515T160000Z
DTEND:20240515T170000Z
X-MICROSOFT-CDO-ALLDAYEVENT:FALSE
SUMMARY:GovCon 101: Creating a Capabilities Statement
DESCRIPTION:The Federal Government buys over $600 billion per year on goods and services\, 5% of that spend is allocated for Small Business. This is a huge opportunity for firms\, who qualify\, to grow their business and become part of the challenging world of Government Contracting through set-aside opportunities. In order to get noticed by small business offices\, you must first create a winning capability statement. This is the most importing marketing piece you will create for your business. A properly formatted capability statement will help you get noticed and differentiate you from your competition. Key Takeaways: Proper formatting of the statement Information to include and not include Differentiators\, Core competencies and past performance content You will be provided an editable template to use for your own capability statement How to use the statement
X-ALT-DESC;FMTTYPE=text/html:The Federal Government buys over $600 billion per year on goods and services\, 5% of that spend is allocated for Small Business. This is a huge opportunity for firms\, who qualify\, to grow their business and become part of the challenging world of Government Contracting through set-aside opportunities. In order to get noticed by small business offices\, you must first create a winning capability statement. This is the most importing marketing piece you will create for your business. A properly formatted capability statement will help you get noticed and differentiate you from your competition. Key Takeaways: Proper formatting of the statement Information to include and not include Differentiators\, Core competencies and past performance content You will be provided an editable template to use for your own capability statement How to use the statement
LOCATION:Virtual
UID:e.492.13921
SEQUENCE:3
DTSTAMP:20260422T084243Z
URL:https://members.fredericksburgchamber.org/events/details/govcon-101-creating-a-capabilities-statement-05-15-2024-13921
END:VEVENT

END:VCALENDAR
