BEGIN:VCALENDAR
VERSION:2.0
PRODID:-//ChamberMaster//Event Calendar 2.0//EN
METHOD:PUBLISH
X-PUBLISHED-TTL:P3D
REFRESH-INTERVAL:P3D
CALSCALE:GREGORIAN
BEGIN:VEVENT
DTSTART:20240320T160000Z
DTEND:20240320T170000Z
X-MICROSOFT-CDO-ALLDAYEVENT:FALSE
SUMMARY:GovCon 101: HubZone
DESCRIPTION:The Federal Government has contracting goals for Women\, Minorities\, Service Disabled Veterans and HUBZone located small businesses. These set asides are a great way to gain entry into the complex world of Federal contracting. This class will introduce you to the HUBZone certification. We will cover these key areas:   Eligibility requirements for HUBZone   Understanding the application process   Understanding how to prepare before applying   Staying Certified Don't miss out on this informative presentation on how you can take advantage of the SBA's socio-economic small business set-asides.
X-ALT-DESC;FMTTYPE=text/html:The Federal Government has contracting goals for Women\, Minorities\, Service Disabled Veterans and HUBZone located small businesses. These set asides are a great way to gain entry into the complex world of Federal contracting. This class will introduce you to the HUBZone certification. We will cover these key areas: &bull\; Eligibility requirements for HUBZone &bull\; Understanding the application process &bull\; Understanding how to prepare before applying &bull\; Staying Certified Don&rsquo\;t miss out on this informative presentation on how you can take advantage of the SBA&rsquo\;s socio-economic small business set-asides.
LOCATION:Virtual
UID:e.492.13792
SEQUENCE:3
DTSTAMP:20260422T035340Z
URL:https://members.fredericksburgchamber.org/events/details/govcon-101-hubzone-03-20-2024-13792
END:VEVENT

END:VCALENDAR
