BEGIN:VCALENDAR
VERSION:2.0
PRODID:-//ChamberMaster//Event Calendar 2.0//EN
METHOD:PUBLISH
X-PUBLISHED-TTL:P3D
REFRESH-INTERVAL:P3D
CALSCALE:GREGORIAN
BEGIN:VEVENT
DTSTART:20230215T170000Z
DTEND:20230215T180000Z
X-MICROSOFT-CDO-ALLDAYEVENT:FALSE
SUMMARY:GovCon 101: HubZone
DESCRIPTION:The Federal Government has contracting goals for Women\, Minorities\, Service Disabled Veterans and HUBZone located small businesses. These set asides are a great way to gain entry into the complex world of Federal contracting. This class will introduce you to these certifications and help you determine if you qualify. We will cover these key areas:   What socio economic certifications are available for small businesses   What does it take to qualify for small business set-aside certifications   How do I apply for socio-economic certifications Don't miss out on this informative presentation on how you can take advantage of the SBA's socio-economic small business set-asides.
X-ALT-DESC;FMTTYPE=text/html:The Federal Government has contracting goals for Women\, Minorities\, Service Disabled Veterans and HUBZone located small businesses. These set asides are a great way to gain entry into the complex world of Federal contracting. This class will introduce you to these certifications and help you determine if you qualify. We will cover these key areas: &bull\; What socio economic certifications are available for small businesses &bull\; What does it take to qualify for small business set-aside certifications &bull\; How do I apply for socio-economic certifications Don&rsquo\;t miss out on this informative presentation on how you can take advantage of the SBA&rsquo\;s socio-economic small business set-asides.
LOCATION:Virtual
UID:e.492.13282
SEQUENCE:3
DTSTAMP:20260422T114951Z
URL:https://members.fredericksburgchamber.org/events/details/govcon-101-hubzone-13282
END:VEVENT

END:VCALENDAR
